BEGIN:VCALENDAR
VERSION:2.0
PRODID:icalendar-ruby
CALSCALE:GREGORIAN
METHOD:PUBLISH
X-WR-CALNAME:2025 Stu Sells Oakville Tankard - Men Calendrier
BEGIN:VTIMEZONE
TZID:America/New_York
BEGIN:DAYLIGHT
DTSTART:20260308T030000
TZOFFSETFROM:-0500
TZOFFSETTO:-0400
RRULE:FREQ=YEARLY;BYDAY=2SU;BYMONTH=3
TZNAME:EDT
END:DAYLIGHT
BEGIN:STANDARD
DTSTART:20261101T010000
TZOFFSETFROM:-0400
TZOFFSETTO:-0500
RRULE:FREQ=YEARLY;BYDAY=1SU;BYMONTH=11
TZNAME:EST
END:STANDARD
END:VTIMEZONE
BEGIN:VEVENT
DTSTAMP:20260422T100042Z
UID:drawid:175954
DTSTART:20250905T090000
DTEND:20250905T110000
DESCRIPTION:Parties: TBD\, TBD\, TBD\, TBD\, TBD\, TBD\, TBD\, TBD
LOCATION:3283 Dundas Street West\, Toronto\, M6P 2A5\, ON\, CA
SEQUENCE:1776852042
SUMMARY:2025 Stu Sells Oakville Tankard - Men
URL;VALUE=URI:https://stucurls.curling.io/fr/events/22911-2025-stu-sells-oa
 kville-tankard-men/draws
END:VEVENT
BEGIN:VEVENT
DTSTAMP:20260422T100042Z
UID:drawid:175955
DTSTART:20250905T123000
DTEND:20250905T143000
DESCRIPTION:Parties: TBD\, TBD\, TBD\, TBD\, TBD\, TBD\, TBD\, TBD
LOCATION:3283 Dundas Street West\, Toronto\, M6P 2A5\, ON\, CA
SEQUENCE:1776852042
SUMMARY:2025 Stu Sells Oakville Tankard - Men
URL;VALUE=URI:https://stucurls.curling.io/fr/events/22911-2025-stu-sells-oa
 kville-tankard-men/draws
END:VEVENT
BEGIN:VEVENT
DTSTAMP:20260422T100042Z
UID:drawid:175956
DTSTART:20250905T151500
DTEND:20250905T171500
DESCRIPTION:Parties: A6\, A4\, A1\, A3\, A7\, A5\, A8\, A2
LOCATION:3283 Dundas Street West\, Toronto\, M6P 2A5\, ON\, CA
SEQUENCE:1776852042
SUMMARY:2025 Stu Sells Oakville Tankard - Men
URL;VALUE=URI:https://stucurls.curling.io/fr/events/22911-2025-stu-sells-oa
 kville-tankard-men/draws
END:VEVENT
BEGIN:VEVENT
DTSTAMP:20260422T100042Z
UID:drawid:175957
DTSTART:20250905T190000
DTEND:20250905T210000
DESCRIPTION:Parties: TBD\, TBD\, TBD\, TBD\, TBD\, TBD\, TBD\, TBD
LOCATION:3283 Dundas Street West\, Toronto\, M6P 2A5\, ON\, CA
SEQUENCE:1776852042
SUMMARY:2025 Stu Sells Oakville Tankard - Men
URL;VALUE=URI:https://stucurls.curling.io/fr/events/22911-2025-stu-sells-oa
 kville-tankard-men/draws
END:VEVENT
BEGIN:VEVENT
DTSTAMP:20260422T100042Z
UID:drawid:175958
DTSTART:20250905T213000
DTEND:20250905T233000
DESCRIPTION:Parties: A12\, A9\, A10\, A11\, TBD\, TBD\, TBD\, TBD
LOCATION:3283 Dundas Street West\, Toronto\, M6P 2A5\, ON\, CA
SEQUENCE:1776852042
SUMMARY:2025 Stu Sells Oakville Tankard - Men
URL;VALUE=URI:https://stucurls.curling.io/fr/events/22911-2025-stu-sells-oa
 kville-tankard-men/draws
END:VEVENT
BEGIN:VEVENT
DTSTAMP:20260422T100042Z
UID:drawid:175959
DTSTART:20250906T090000
DTEND:20250906T110000
DESCRIPTION:Parties: TBD\, TBD\, TBD\, TBD\, B1\, B2\, B3\, B4
LOCATION:3283 Dundas Street West\, Toronto\, M6P 2A5\, ON\, CA
SEQUENCE:1776852042
SUMMARY:2025 Stu Sells Oakville Tankard - Men
URL;VALUE=URI:https://stucurls.curling.io/fr/events/22911-2025-stu-sells-oa
 kville-tankard-men/draws
END:VEVENT
BEGIN:VEVENT
DTSTAMP:20260422T100042Z
UID:drawid:175960
DTSTART:20250906T123000
DTEND:20250906T143000
DESCRIPTION:Parties: TBD\, TBD\, TBD\, TBD\, TBD\, A13\, A14\, TBD
LOCATION:3283 Dundas Street West\, Toronto\, M6P 2A5\, ON\, CA
SEQUENCE:1776852042
SUMMARY:2025 Stu Sells Oakville Tankard - Men
URL;VALUE=URI:https://stucurls.curling.io/fr/events/22911-2025-stu-sells-oa
 kville-tankard-men/draws
END:VEVENT
BEGIN:VEVENT
DTSTAMP:20260422T100042Z
UID:drawid:175961
DTSTART:20250906T151500
DTEND:20250906T171500
DESCRIPTION:Parties: TBD\, B7\, B8\, B5\, B6\, TBD\, TBD\, TBD
LOCATION:3283 Dundas Street West\, Toronto\, M6P 2A5\, ON\, CA
SEQUENCE:1776852042
SUMMARY:2025 Stu Sells Oakville Tankard - Men
URL;VALUE=URI:https://stucurls.curling.io/fr/events/22911-2025-stu-sells-oa
 kville-tankard-men/draws
END:VEVENT
BEGIN:VEVENT
DTSTAMP:20260422T100042Z
UID:drawid:175962
DTSTART:20250906T190000
DTEND:20250906T210000
DESCRIPTION:Parties: TBD\, C1\, TBD\, C2\, TBD\, TBD\, TBD\, TBD
LOCATION:3283 Dundas Street West\, Toronto\, M6P 2A5\, ON\, CA
SEQUENCE:1776852042
SUMMARY:2025 Stu Sells Oakville Tankard - Men
URL;VALUE=URI:https://stucurls.curling.io/fr/events/22911-2025-stu-sells-oa
 kville-tankard-men/draws
END:VEVENT
BEGIN:VEVENT
DTSTAMP:20260422T100042Z
UID:drawid:175963
DTSTART:20250906T213000
DTEND:20250906T233000
DESCRIPTION:Parties: TBD\, TBD\, C5\, TBD\, TBD\, TBD\, TBD\, TBD
LOCATION:3283 Dundas Street West\, Toronto\, M6P 2A5\, ON\, CA
SEQUENCE:1776852042
SUMMARY:2025 Stu Sells Oakville Tankard - Men
URL;VALUE=URI:https://stucurls.curling.io/fr/events/22911-2025-stu-sells-oa
 kville-tankard-men/draws
END:VEVENT
BEGIN:VEVENT
DTSTAMP:20260422T100042Z
UID:drawid:175964
DTSTART:20250907T090000
DTEND:20250907T110000
DESCRIPTION:Parties: C3\, TBD\, B10\, B11\, TBD\, B9\, TBD\, C4
LOCATION:3283 Dundas Street West\, Toronto\, M6P 2A5\, ON\, CA
SEQUENCE:1776852042
SUMMARY:2025 Stu Sells Oakville Tankard - Men
URL;VALUE=URI:https://stucurls.curling.io/fr/events/22911-2025-stu-sells-oa
 kville-tankard-men/draws
END:VEVENT
BEGIN:VEVENT
DTSTAMP:20260422T100042Z
UID:drawid:175965
DTSTART:20250907T140000
DTEND:20250907T160000
DESCRIPTION:Parties: TBD\, C7\, TBD\, TBD\, C8\, C6\, TBD\, TBD
LOCATION:3283 Dundas Street West\, Toronto\, M6P 2A5\, ON\, CA
SEQUENCE:1776852042
SUMMARY:2025 Stu Sells Oakville Tankard - Men
URL;VALUE=URI:https://stucurls.curling.io/fr/events/22911-2025-stu-sells-oa
 kville-tankard-men/draws
END:VEVENT
BEGIN:VEVENT
DTSTAMP:20260422T100042Z
UID:drawid:175966
DTSTART:20250907T190000
DTEND:20250907T210000
DESCRIPTION:Parties: TBD\, Quarterfinal 3\, Quarterfinal 4\, TBD\, Quarterf
 inal 2\, TBD\, Quarterfinal 1\, TBD
LOCATION:3283 Dundas Street West\, Toronto\, M6P 2A5\, ON\, CA
SEQUENCE:1776852042
SUMMARY:2025 Stu Sells Oakville Tankard - Men
URL;VALUE=URI:https://stucurls.curling.io/fr/events/22911-2025-stu-sells-oa
 kville-tankard-men/draws
END:VEVENT
BEGIN:VEVENT
DTSTAMP:20260422T100042Z
UID:drawid:175967
DTSTART:20250908T084500
DTEND:20250908T104500
DESCRIPTION:Parties: TBD\, TBD\, TBD\, TBD\, TBD\, TBD\, TBD\, TBD
LOCATION:3283 Dundas Street West\, Toronto\, M6P 2A5\, ON\, CA
SEQUENCE:1776852042
SUMMARY:2025 Stu Sells Oakville Tankard - Men
URL;VALUE=URI:https://stucurls.curling.io/fr/events/22911-2025-stu-sells-oa
 kville-tankard-men/draws
END:VEVENT
BEGIN:VEVENT
DTSTAMP:20260422T100042Z
UID:drawid:175968
DTSTART:20250908T121500
DTEND:20250908T141500
DESCRIPTION:Parties: TBD\, TBD\, Semifinal 1\, TBD\, TBD\, TBD\, Semifinal 
 2\, TBD
LOCATION:3283 Dundas Street West\, Toronto\, M6P 2A5\, ON\, CA
SEQUENCE:1776852042
SUMMARY:2025 Stu Sells Oakville Tankard - Men
URL;VALUE=URI:https://stucurls.curling.io/fr/events/22911-2025-stu-sells-oa
 kville-tankard-men/draws
END:VEVENT
BEGIN:VEVENT
DTSTAMP:20260422T100042Z
UID:drawid:175969
DTSTART:20250908T153000
DTEND:20250908T173000
DESCRIPTION:Parties: TBD\, TBD\, TBD\, Final\, TBD\, TBD\, TBD\, TBD
LOCATION:3283 Dundas Street West\, Toronto\, M6P 2A5\, ON\, CA
SEQUENCE:1776852042
SUMMARY:2025 Stu Sells Oakville Tankard - Men
URL;VALUE=URI:https://stucurls.curling.io/fr/events/22911-2025-stu-sells-oa
 kville-tankard-men/draws
END:VEVENT
END:VCALENDAR
