BEGIN:VCALENDAR
VERSION:2.0
PRODID:icalendar-ruby
CALSCALE:GREGORIAN
METHOD:PUBLISH
X-WR-CALNAME:2025 Stu Sells Oakville Tankard - Women Calendrier
BEGIN:VTIMEZONE
TZID:America/New_York
BEGIN:DAYLIGHT
DTSTART:20260308T030000
TZOFFSETFROM:-0500
TZOFFSETTO:-0400
RRULE:FREQ=YEARLY;BYDAY=2SU;BYMONTH=3
TZNAME:EDT
END:DAYLIGHT
BEGIN:STANDARD
DTSTART:20261101T010000
TZOFFSETFROM:-0400
TZOFFSETTO:-0500
RRULE:FREQ=YEARLY;BYDAY=1SU;BYMONTH=11
TZNAME:EST
END:STANDARD
END:VTIMEZONE
BEGIN:VEVENT
DTSTAMP:20260422T100226Z
UID:drawid:175970
DTSTART:20250905T090000
DTEND:20250905T110000
DESCRIPTION:Parties: TBD\, A2\, A3\, A4\, TBD\, TBD\, TBD\, TBD
LOCATION:3283 Dundas Street West\, Toronto\, M6P 2A5\, ON\, CA
SEQUENCE:1776852146
SUMMARY:2025 Stu Sells Oakville Tankard - Women
URL;VALUE=URI:https://stucurls.curling.io/fr/events/22912-2025-stu-sells-oa
 kville-tankard-women/draws
END:VEVENT
BEGIN:VEVENT
DTSTAMP:20260422T100226Z
UID:drawid:175971
DTSTART:20250905T123000
DTEND:20250905T143000
DESCRIPTION:Parties: TBD\, A8\, A5\, A9\, A7\, A12\, A6\, A11
LOCATION:3283 Dundas Street West\, Toronto\, M6P 2A5\, ON\, CA
SEQUENCE:1776852146
SUMMARY:2025 Stu Sells Oakville Tankard - Women
URL;VALUE=URI:https://stucurls.curling.io/fr/events/22912-2025-stu-sells-oa
 kville-tankard-women/draws
END:VEVENT
BEGIN:VEVENT
DTSTAMP:20260422T100226Z
UID:drawid:175972
DTSTART:20250905T151500
DTEND:20250905T171500
DESCRIPTION:Parties: TBD\, TBD\, TBD\, TBD\, TBD\, TBD\, TBD\, TBD
LOCATION:3283 Dundas Street West\, Toronto\, M6P 2A5\, ON\, CA
SEQUENCE:1776852146
SUMMARY:2025 Stu Sells Oakville Tankard - Women
URL;VALUE=URI:https://stucurls.curling.io/fr/events/22912-2025-stu-sells-oa
 kville-tankard-women/draws
END:VEVENT
BEGIN:VEVENT
DTSTAMP:20260422T100226Z
UID:drawid:175973
DTSTART:20250905T184500
DTEND:20250905T204500
DESCRIPTION:Parties: TBD\, A14\, A18\, A15\, A13\, A16\, A10\, B2
LOCATION:3283 Dundas Street West\, Toronto\, M6P 2A5\, ON\, CA
SEQUENCE:1776852146
SUMMARY:2025 Stu Sells Oakville Tankard - Women
URL;VALUE=URI:https://stucurls.curling.io/fr/events/22912-2025-stu-sells-oa
 kville-tankard-women/draws
END:VEVENT
BEGIN:VEVENT
DTSTAMP:20260422T100226Z
UID:drawid:175974
DTSTART:20250905T211500
DTEND:20250905T231500
DESCRIPTION:Parties: TBD\, TBD\, TBD\, TBD\, B3\, B4\, B6\, TBD
LOCATION:3283 Dundas Street West\, Toronto\, M6P 2A5\, ON\, CA
SEQUENCE:1776852146
SUMMARY:2025 Stu Sells Oakville Tankard - Women
URL;VALUE=URI:https://stucurls.curling.io/fr/events/22912-2025-stu-sells-oa
 kville-tankard-women/draws
END:VEVENT
BEGIN:VEVENT
DTSTAMP:20260422T100226Z
UID:drawid:175975
DTSTART:20250906T090000
DTEND:20250906T110000
DESCRIPTION:Parties: B7\, B9\, B8\, B10\, TBD\, TBD\, TBD\, TBD
LOCATION:3283 Dundas Street West\, Toronto\, M6P 2A5\, ON\, CA
SEQUENCE:1776852146
SUMMARY:2025 Stu Sells Oakville Tankard - Women
URL;VALUE=URI:https://stucurls.curling.io/fr/events/22912-2025-stu-sells-oa
 kville-tankard-women/draws
END:VEVENT
BEGIN:VEVENT
DTSTAMP:20260422T100226Z
UID:drawid:175976
DTSTART:20250906T123000
DTEND:20250906T143000
DESCRIPTION:Parties: B11\, A20\, A19\, B12\, A21\, TBD\, TBD\, TBD
LOCATION:3283 Dundas Street West\, Toronto\, M6P 2A5\, ON\, CA
SEQUENCE:1776852146
SUMMARY:2025 Stu Sells Oakville Tankard - Women
URL;VALUE=URI:https://stucurls.curling.io/fr/events/22912-2025-stu-sells-oa
 kville-tankard-women/draws
END:VEVENT
BEGIN:VEVENT
DTSTAMP:20260422T100226Z
UID:drawid:175977
DTSTART:20250906T151500
DTEND:20250906T171500
DESCRIPTION:Parties: TBD\, TBD\, TBD\, TBD\, TBD\, C4\, C2\, C5
LOCATION:3283 Dundas Street West\, Toronto\, M6P 2A5\, ON\, CA
SEQUENCE:1776852146
SUMMARY:2025 Stu Sells Oakville Tankard - Women
URL;VALUE=URI:https://stucurls.curling.io/fr/events/22912-2025-stu-sells-oa
 kville-tankard-women/draws
END:VEVENT
BEGIN:VEVENT
DTSTAMP:20260422T100226Z
UID:drawid:175978
DTSTART:20250906T184500
DTEND:20250906T204500
DESCRIPTION:Parties: TBD\, TBD\, B14\, TBD\, B13\, B15\, TBD\, TBD
LOCATION:3283 Dundas Street West\, Toronto\, M6P 2A5\, ON\, CA
SEQUENCE:1776852146
SUMMARY:2025 Stu Sells Oakville Tankard - Women
URL;VALUE=URI:https://stucurls.curling.io/fr/events/22912-2025-stu-sells-oa
 kville-tankard-women/draws
END:VEVENT
BEGIN:VEVENT
DTSTAMP:20260422T100226Z
UID:drawid:175979
DTSTART:20250906T211500
DTEND:20250906T231500
DESCRIPTION:Parties: TBD\, C7\, TBD\, C8\, C9\, C6\, C10\, TBD
LOCATION:3283 Dundas Street West\, Toronto\, M6P 2A5\, ON\, CA
SEQUENCE:1776852146
SUMMARY:2025 Stu Sells Oakville Tankard - Women
URL;VALUE=URI:https://stucurls.curling.io/fr/events/22912-2025-stu-sells-oa
 kville-tankard-women/draws
END:VEVENT
BEGIN:VEVENT
DTSTAMP:20260422T100226Z
UID:drawid:175980
DTSTART:20250907T090000
DTEND:20250907T110000
DESCRIPTION:Parties: TBD\, B16\, TBD\, TBD\, B17\, TBD\, B18\, TBD
LOCATION:3283 Dundas Street West\, Toronto\, M6P 2A5\, ON\, CA
SEQUENCE:1776852146
SUMMARY:2025 Stu Sells Oakville Tankard - Women
URL;VALUE=URI:https://stucurls.curling.io/fr/events/22912-2025-stu-sells-oa
 kville-tankard-women/draws
END:VEVENT
BEGIN:VEVENT
DTSTAMP:20260422T100226Z
UID:drawid:175981
DTSTART:20250907T140000
DTEND:20250907T160000
DESCRIPTION:Parties: TBD\, TBD\, C14\, C12\, TBD\, TBD\, C11\, C13
LOCATION:3283 Dundas Street West\, Toronto\, M6P 2A5\, ON\, CA
SEQUENCE:1776852146
SUMMARY:2025 Stu Sells Oakville Tankard - Women
URL;VALUE=URI:https://stucurls.curling.io/fr/events/22912-2025-stu-sells-oa
 kville-tankard-women/draws
END:VEVENT
BEGIN:VEVENT
DTSTAMP:20260422T100226Z
UID:drawid:175982
DTSTART:20250907T190000
DTEND:20250907T210000
DESCRIPTION:Parties: TBD\, TBD\, TBD\, C16\, TBD\, C15\, TBD\, TBD
LOCATION:3283 Dundas Street West\, Toronto\, M6P 2A5\, ON\, CA
SEQUENCE:1776852146
SUMMARY:2025 Stu Sells Oakville Tankard - Women
URL;VALUE=URI:https://stucurls.curling.io/fr/events/22912-2025-stu-sells-oa
 kville-tankard-women/draws
END:VEVENT
BEGIN:VEVENT
DTSTAMP:20260422T100226Z
UID:drawid:175984
DTSTART:20250908T084500
DTEND:20250908T104500
DESCRIPTION:Parties: TBD\, TBD\, Quarterfinal 3\, Quarterfinal 2\, TBD\, Qu
 arterfinal 4\, Quarterfinal 1\, TBD
LOCATION:3283 Dundas Street West\, Toronto\, M6P 2A5\, ON\, CA
SEQUENCE:1776852146
SUMMARY:2025 Stu Sells Oakville Tankard - Women
URL;VALUE=URI:https://stucurls.curling.io/fr/events/22912-2025-stu-sells-oa
 kville-tankard-women/draws
END:VEVENT
BEGIN:VEVENT
DTSTAMP:20260422T100226Z
UID:drawid:175985
DTSTART:20250908T121500
DTEND:20250908T141500
DESCRIPTION:Parties: TBD\, TBD\, TBD\, Semifinal 2\, TBD\, Semifinal 1\, TB
 D\, TBD
LOCATION:3283 Dundas Street West\, Toronto\, M6P 2A5\, ON\, CA
SEQUENCE:1776852146
SUMMARY:2025 Stu Sells Oakville Tankard - Women
URL;VALUE=URI:https://stucurls.curling.io/fr/events/22912-2025-stu-sells-oa
 kville-tankard-women/draws
END:VEVENT
BEGIN:VEVENT
DTSTAMP:20260422T100226Z
UID:drawid:175986
DTSTART:20250908T153000
DTEND:20250908T173000
DESCRIPTION:Parties: TBD\, TBD\, TBD\, TBD\, Final\, TBD\, TBD\, TBD
LOCATION:3283 Dundas Street West\, Toronto\, M6P 2A5\, ON\, CA
SEQUENCE:1776852146
SUMMARY:2025 Stu Sells Oakville Tankard - Women
URL;VALUE=URI:https://stucurls.curling.io/fr/events/22912-2025-stu-sells-oa
 kville-tankard-women/draws
END:VEVENT
END:VCALENDAR
