BEGIN:VCALENDAR
VERSION:2.0
PRODID:icalendar-ruby
CALSCALE:GREGORIAN
METHOD:PUBLISH
X-WR-CALNAME:2025 U18 Tankard (Oakville) - Men Calendrier
BEGIN:VTIMEZONE
TZID:America/New_York
BEGIN:DAYLIGHT
DTSTART:20260308T030000
TZOFFSETFROM:-0500
TZOFFSETTO:-0400
RRULE:FREQ=YEARLY;BYDAY=2SU;BYMONTH=3
TZNAME:EDT
END:DAYLIGHT
BEGIN:STANDARD
DTSTART:20261101T010000
TZOFFSETFROM:-0400
TZOFFSETTO:-0500
RRULE:FREQ=YEARLY;BYDAY=1SU;BYMONTH=11
TZNAME:EST
END:STANDARD
END:VTIMEZONE
BEGIN:VEVENT
DTSTAMP:20260422T100646Z
UID:drawid:186563
DTSTART:20251010T110000
DTEND:20251010T130000
DESCRIPTION:Parties: TBD\, TBD\, TBD\, TBD
LOCATION:3283 Dundas Street West\, Toronto\, M6P 2A5\, ON\, CA
SEQUENCE:1776852406
SUMMARY:2025 U18 Tankard (Oakville) - Men
URL;VALUE=URI:https://stucurls.curling.io/fr/events/22915-2025-u18-tankard-
 oakville-men/draws
END:VEVENT
BEGIN:VEVENT
DTSTAMP:20260422T100646Z
UID:drawid:186564
DTSTART:20251010T150000
DTEND:20251010T170000
DESCRIPTION:Parties: 
LOCATION:3283 Dundas Street West\, Toronto\, M6P 2A5\, ON\, CA
SEQUENCE:1776852406
SUMMARY:2025 U18 Tankard (Oakville) - Men
URL;VALUE=URI:https://stucurls.curling.io/fr/events/22915-2025-u18-tankard-
 oakville-men/draws
END:VEVENT
BEGIN:VEVENT
DTSTAMP:20260422T100646Z
UID:drawid:186565
DTSTART:20251010T190000
DTEND:20251010T210000
DESCRIPTION:Parties: TBD\, TBD\, TBD\, TBD
LOCATION:3283 Dundas Street West\, Toronto\, M6P 2A5\, ON\, CA
SEQUENCE:1776852406
SUMMARY:2025 U18 Tankard (Oakville) - Men
URL;VALUE=URI:https://stucurls.curling.io/fr/events/22915-2025-u18-tankard-
 oakville-men/draws
END:VEVENT
BEGIN:VEVENT
DTSTAMP:20260422T100646Z
UID:drawid:186566
DTSTART:20251011T090000
DTEND:20251011T110000
DESCRIPTION:Parties: TBD\, TBD\, TBD\, TBD
LOCATION:3283 Dundas Street West\, Toronto\, M6P 2A5\, ON\, CA
SEQUENCE:1776852406
SUMMARY:2025 U18 Tankard (Oakville) - Men
URL;VALUE=URI:https://stucurls.curling.io/fr/events/22915-2025-u18-tankard-
 oakville-men/draws
END:VEVENT
BEGIN:VEVENT
DTSTAMP:20260422T100646Z
UID:drawid:186567
DTSTART:20251011T140000
DTEND:20251011T160000
DESCRIPTION:Parties: TBD\, TBD\, TBD\, TBD\, TBD\, TBD\, TBD\, TBD
LOCATION:3283 Dundas Street West\, Toronto\, M6P 2A5\, ON\, CA
SEQUENCE:1776852406
SUMMARY:2025 U18 Tankard (Oakville) - Men
URL;VALUE=URI:https://stucurls.curling.io/fr/events/22915-2025-u18-tankard-
 oakville-men/draws
END:VEVENT
BEGIN:VEVENT
DTSTAMP:20260422T100646Z
UID:drawid:186568
DTSTART:20251011T190000
DTEND:20251011T210000
DESCRIPTION:Parties: TBD\, SF1\, TBD\, TBD\, TBD\, TBD\, SF2
LOCATION:3283 Dundas Street West\, Toronto\, M6P 2A5\, ON\, CA
SEQUENCE:1776852406
SUMMARY:2025 U18 Tankard (Oakville) - Men
URL;VALUE=URI:https://stucurls.curling.io/fr/events/22915-2025-u18-tankard-
 oakville-men/draws
END:VEVENT
BEGIN:VEVENT
DTSTAMP:20260422T100646Z
UID:drawid:186569
DTSTART:20251012T110000
DTEND:20251012T130000
DESCRIPTION:Parties: CF
LOCATION:3283 Dundas Street West\, Toronto\, M6P 2A5\, ON\, CA
SEQUENCE:1776852406
SUMMARY:2025 U18 Tankard (Oakville) - Men
URL;VALUE=URI:https://stucurls.curling.io/fr/events/22915-2025-u18-tankard-
 oakville-men/draws
END:VEVENT
END:VCALENDAR
