BEGIN:VCALENDAR
VERSION:2.0
PRODID:icalendar-ruby
CALSCALE:GREGORIAN
METHOD:PUBLISH
X-WR-CALNAME:2025 Stu Sells Toronto Tankard - Men Calendrier
BEGIN:VTIMEZONE
TZID:America/New_York
BEGIN:DAYLIGHT
DTSTART:20260308T030000
TZOFFSETFROM:-0500
TZOFFSETTO:-0400
RRULE:FREQ=YEARLY;BYDAY=2SU;BYMONTH=3
TZNAME:EDT
END:DAYLIGHT
BEGIN:STANDARD
DTSTART:20261101T010000
TZOFFSETFROM:-0400
TZOFFSETTO:-0500
RRULE:FREQ=YEARLY;BYDAY=1SU;BYMONTH=11
TZNAME:EST
END:STANDARD
END:VTIMEZONE
BEGIN:VEVENT
DTSTAMP:20260422T100134Z
UID:drawid:181781
DTSTART:20251001T110000
DTEND:20251001T130000
DESCRIPTION:Parties: TBD\, TBD
LOCATION:3283 Dundas Street West\, Toronto\, M6P 2A5\, ON\, CA
SEQUENCE:1776852094
SUMMARY:2025 Stu Sells Toronto Tankard - Men
URL;VALUE=URI:https://stucurls.curling.io/fr/events/22917-2025-stu-sells-to
 ronto-tankard-men/draws
END:VEVENT
BEGIN:VEVENT
DTSTAMP:20260422T100134Z
UID:drawid:181782
DTSTART:20251001T143000
DTEND:20251001T163000
DESCRIPTION:Parties: TBD\, TBD
LOCATION:3283 Dundas Street West\, Toronto\, M6P 2A5\, ON\, CA
SEQUENCE:1776852094
SUMMARY:2025 Stu Sells Toronto Tankard - Men
URL;VALUE=URI:https://stucurls.curling.io/fr/events/22917-2025-stu-sells-to
 ronto-tankard-men/draws
END:VEVENT
BEGIN:VEVENT
DTSTAMP:20260422T100134Z
UID:drawid:181783
DTSTART:20251002T080000
DTEND:20251002T100000
DESCRIPTION:Parties: TBD\, TBD
LOCATION:3283 Dundas Street West\, Toronto\, M6P 2A5\, ON\, CA
SEQUENCE:1776852094
SUMMARY:2025 Stu Sells Toronto Tankard - Men
URL;VALUE=URI:https://stucurls.curling.io/fr/events/22917-2025-stu-sells-to
 ronto-tankard-men/draws
END:VEVENT
BEGIN:VEVENT
DTSTAMP:20260422T100134Z
UID:drawid:181784
DTSTART:20251002T111500
DTEND:20251002T131500
DESCRIPTION:Parties: TBD\, TBD\, TBD
LOCATION:3283 Dundas Street West\, Toronto\, M6P 2A5\, ON\, CA
SEQUENCE:1776852094
SUMMARY:2025 Stu Sells Toronto Tankard - Men
URL;VALUE=URI:https://stucurls.curling.io/fr/events/22917-2025-stu-sells-to
 ronto-tankard-men/draws
END:VEVENT
BEGIN:VEVENT
DTSTAMP:20260422T100134Z
UID:drawid:181785
DTSTART:20251002T143000
DTEND:20251002T163000
DESCRIPTION:Parties: TBD\, TBD
LOCATION:3283 Dundas Street West\, Toronto\, M6P 2A5\, ON\, CA
SEQUENCE:1776852094
SUMMARY:2025 Stu Sells Toronto Tankard - Men
URL;VALUE=URI:https://stucurls.curling.io/fr/events/22917-2025-stu-sells-to
 ronto-tankard-men/draws
END:VEVENT
BEGIN:VEVENT
DTSTAMP:20260422T100134Z
UID:drawid:181786
DTSTART:20251002T180000
DTEND:20251002T200000
DESCRIPTION:Parties: TBD\, TBD\, TBD
LOCATION:3283 Dundas Street West\, Toronto\, M6P 2A5\, ON\, CA
SEQUENCE:1776852094
SUMMARY:2025 Stu Sells Toronto Tankard - Men
URL;VALUE=URI:https://stucurls.curling.io/fr/events/22917-2025-stu-sells-to
 ronto-tankard-men/draws
END:VEVENT
BEGIN:VEVENT
DTSTAMP:20260422T100134Z
UID:drawid:181787
DTSTART:20251002T213000
DTEND:20251002T233000
DESCRIPTION:Parties: TBD\, TBD
LOCATION:3283 Dundas Street West\, Toronto\, M6P 2A5\, ON\, CA
SEQUENCE:1776852094
SUMMARY:2025 Stu Sells Toronto Tankard - Men
URL;VALUE=URI:https://stucurls.curling.io/fr/events/22917-2025-stu-sells-to
 ronto-tankard-men/draws
END:VEVENT
BEGIN:VEVENT
DTSTAMP:20260422T100134Z
UID:drawid:181788
DTSTART:20251003T080000
DTEND:20251003T100000
DESCRIPTION:Parties: TBD\, TBD\, TBD
LOCATION:3283 Dundas Street West\, Toronto\, M6P 2A5\, ON\, CA
SEQUENCE:1776852094
SUMMARY:2025 Stu Sells Toronto Tankard - Men
URL;VALUE=URI:https://stucurls.curling.io/fr/events/22917-2025-stu-sells-to
 ronto-tankard-men/draws
END:VEVENT
BEGIN:VEVENT
DTSTAMP:20260422T100134Z
UID:drawid:181789
DTSTART:20251003T111500
DTEND:20251003T131500
DESCRIPTION:Parties: TBD\, TBD
LOCATION:3283 Dundas Street West\, Toronto\, M6P 2A5\, ON\, CA
SEQUENCE:1776852094
SUMMARY:2025 Stu Sells Toronto Tankard - Men
URL;VALUE=URI:https://stucurls.curling.io/fr/events/22917-2025-stu-sells-to
 ronto-tankard-men/draws
END:VEVENT
BEGIN:VEVENT
DTSTAMP:20260422T100134Z
UID:drawid:181790
DTSTART:20251003T143000
DTEND:20251003T163000
DESCRIPTION:Parties: TBD\, TBD\, TBD
LOCATION:3283 Dundas Street West\, Toronto\, M6P 2A5\, ON\, CA
SEQUENCE:1776852094
SUMMARY:2025 Stu Sells Toronto Tankard - Men
URL;VALUE=URI:https://stucurls.curling.io/fr/events/22917-2025-stu-sells-to
 ronto-tankard-men/draws
END:VEVENT
BEGIN:VEVENT
DTSTAMP:20260422T100134Z
UID:drawid:181791
DTSTART:20251003T180000
DTEND:20251003T200000
DESCRIPTION:Parties: TBD\, TBD
LOCATION:3283 Dundas Street West\, Toronto\, M6P 2A5\, ON\, CA
SEQUENCE:1776852094
SUMMARY:2025 Stu Sells Toronto Tankard - Men
URL;VALUE=URI:https://stucurls.curling.io/fr/events/22917-2025-stu-sells-to
 ronto-tankard-men/draws
END:VEVENT
BEGIN:VEVENT
DTSTAMP:20260422T100134Z
UID:drawid:181792
DTSTART:20251003T213000
DTEND:20251003T233000
DESCRIPTION:Parties: TBD\, TBD
LOCATION:3283 Dundas Street West\, Toronto\, M6P 2A5\, ON\, CA
SEQUENCE:1776852094
SUMMARY:2025 Stu Sells Toronto Tankard - Men
URL;VALUE=URI:https://stucurls.curling.io/fr/events/22917-2025-stu-sells-to
 ronto-tankard-men/draws
END:VEVENT
BEGIN:VEVENT
DTSTAMP:20260422T100134Z
UID:drawid:181793
DTSTART:20251004T080000
DTEND:20251004T100000
DESCRIPTION:Parties: 
LOCATION:3283 Dundas Street West\, Toronto\, M6P 2A5\, ON\, CA
SEQUENCE:1776852094
SUMMARY:2025 Stu Sells Toronto Tankard - Men
URL;VALUE=URI:https://stucurls.curling.io/fr/events/22917-2025-stu-sells-to
 ronto-tankard-men/draws
END:VEVENT
BEGIN:VEVENT
DTSTAMP:20260422T100134Z
UID:drawid:181794
DTSTART:20251004T111500
DTEND:20251004T131500
DESCRIPTION:Parties: TBD\, TBD\, TBD\, TBD
LOCATION:3283 Dundas Street West\, Toronto\, M6P 2A5\, ON\, CA
SEQUENCE:1776852094
SUMMARY:2025 Stu Sells Toronto Tankard - Men
URL;VALUE=URI:https://stucurls.curling.io/fr/events/22917-2025-stu-sells-to
 ronto-tankard-men/draws
END:VEVENT
BEGIN:VEVENT
DTSTAMP:20260422T100134Z
UID:drawid:181795
DTSTART:20251004T143000
DTEND:20251004T163000
DESCRIPTION:Parties: TBD\, TBD\, TBD\, TBD
LOCATION:3283 Dundas Street West\, Toronto\, M6P 2A5\, ON\, CA
SEQUENCE:1776852094
SUMMARY:2025 Stu Sells Toronto Tankard - Men
URL;VALUE=URI:https://stucurls.curling.io/fr/events/22917-2025-stu-sells-to
 ronto-tankard-men/draws
END:VEVENT
BEGIN:VEVENT
DTSTAMP:20260422T100134Z
UID:drawid:181796
DTSTART:20251004T180000
DTEND:20251004T200000
DESCRIPTION:Parties: 
LOCATION:3283 Dundas Street West\, Toronto\, M6P 2A5\, ON\, CA
SEQUENCE:1776852094
SUMMARY:2025 Stu Sells Toronto Tankard - Men
URL;VALUE=URI:https://stucurls.curling.io/fr/events/22917-2025-stu-sells-to
 ronto-tankard-men/draws
END:VEVENT
BEGIN:VEVENT
DTSTAMP:20260422T100134Z
UID:drawid:181797
DTSTART:20251004T213000
DTEND:20251004T233000
DESCRIPTION:Parties: 2 v 7\, 4 v 5\, 1 v 8\, 3 v 6\, TBD
LOCATION:3283 Dundas Street West\, Toronto\, M6P 2A5\, ON\, CA
SEQUENCE:1776852094
SUMMARY:2025 Stu Sells Toronto Tankard - Men
URL;VALUE=URI:https://stucurls.curling.io/fr/events/22917-2025-stu-sells-to
 ronto-tankard-men/draws
END:VEVENT
BEGIN:VEVENT
DTSTAMP:20260422T100134Z
UID:drawid:181798
DTSTART:20251005T080000
DTEND:20251005T100000
DESCRIPTION:Parties: 
LOCATION:3283 Dundas Street West\, Toronto\, M6P 2A5\, ON\, CA
SEQUENCE:1776852094
SUMMARY:2025 Stu Sells Toronto Tankard - Men
URL;VALUE=URI:https://stucurls.curling.io/fr/events/22917-2025-stu-sells-to
 ronto-tankard-men/draws
END:VEVENT
BEGIN:VEVENT
DTSTAMP:20260422T100134Z
UID:drawid:181799
DTSTART:20251005T111500
DTEND:20251005T131500
DESCRIPTION:Parties: 10 v 15\, 11 v 14\, 12 v 13\, 9 v 16
LOCATION:3283 Dundas Street West\, Toronto\, M6P 2A5\, ON\, CA
SEQUENCE:1776852094
SUMMARY:2025 Stu Sells Toronto Tankard - Men
URL;VALUE=URI:https://stucurls.curling.io/fr/events/22917-2025-stu-sells-to
 ronto-tankard-men/draws
END:VEVENT
BEGIN:VEVENT
DTSTAMP:20260422T100134Z
UID:drawid:181800
DTSTART:20251005T143000
DTEND:20251005T163000
DESCRIPTION:Parties: 
LOCATION:3283 Dundas Street West\, Toronto\, M6P 2A5\, ON\, CA
SEQUENCE:1776852094
SUMMARY:2025 Stu Sells Toronto Tankard - Men
URL;VALUE=URI:https://stucurls.curling.io/fr/events/22917-2025-stu-sells-to
 ronto-tankard-men/draws
END:VEVENT
BEGIN:VEVENT
DTSTAMP:20260422T100134Z
UID:drawid:181801
DTSTART:20251005T180000
DTEND:20251005T200000
DESCRIPTION:Parties: Q5\, Q7\, Q8\, Q6
LOCATION:3283 Dundas Street West\, Toronto\, M6P 2A5\, ON\, CA
SEQUENCE:1776852094
SUMMARY:2025 Stu Sells Toronto Tankard - Men
URL;VALUE=URI:https://stucurls.curling.io/fr/events/22917-2025-stu-sells-to
 ronto-tankard-men/draws
END:VEVENT
BEGIN:VEVENT
DTSTAMP:20260422T100134Z
UID:drawid:181802
DTSTART:20251005T213000
DTEND:20251005T233000
DESCRIPTION:Parties: QF1
LOCATION:3283 Dundas Street West\, Toronto\, M6P 2A5\, ON\, CA
SEQUENCE:1776852094
SUMMARY:2025 Stu Sells Toronto Tankard - Men
URL;VALUE=URI:https://stucurls.curling.io/fr/events/22917-2025-stu-sells-to
 ronto-tankard-men/draws
END:VEVENT
BEGIN:VEVENT
DTSTAMP:20260422T100134Z
UID:drawid:181803
DTSTART:20251006T083000
DTEND:20251006T103000
DESCRIPTION:Parties: QF3\, QF2\, QF4
LOCATION:3283 Dundas Street West\, Toronto\, M6P 2A5\, ON\, CA
SEQUENCE:1776852094
SUMMARY:2025 Stu Sells Toronto Tankard - Men
URL;VALUE=URI:https://stucurls.curling.io/fr/events/22917-2025-stu-sells-to
 ronto-tankard-men/draws
END:VEVENT
BEGIN:VEVENT
DTSTAMP:20260422T100134Z
UID:drawid:181804
DTSTART:20251006T123000
DTEND:20251006T143000
DESCRIPTION:Parties: SF1\, SF2
LOCATION:3283 Dundas Street West\, Toronto\, M6P 2A5\, ON\, CA
SEQUENCE:1776852094
SUMMARY:2025 Stu Sells Toronto Tankard - Men
URL;VALUE=URI:https://stucurls.curling.io/fr/events/22917-2025-stu-sells-to
 ronto-tankard-men/draws
END:VEVENT
BEGIN:VEVENT
DTSTAMP:20260422T100134Z
UID:drawid:181805
DTSTART:20251006T160000
DTEND:20251006T180000
DESCRIPTION:Parties: CF
LOCATION:3283 Dundas Street West\, Toronto\, M6P 2A5\, ON\, CA
SEQUENCE:1776852094
SUMMARY:2025 Stu Sells Toronto Tankard - Men
URL;VALUE=URI:https://stucurls.curling.io/fr/events/22917-2025-stu-sells-to
 ronto-tankard-men/draws
END:VEVENT
END:VCALENDAR
