BEGIN:VCALENDAR
VERSION:2.0
PRODID:icalendar-ruby
CALSCALE:GREGORIAN
METHOD:PUBLISH
X-WR-CALNAME:2025 Stu Sells Toronto Tankard - Women Calendrier
BEGIN:VTIMEZONE
TZID:America/New_York
BEGIN:DAYLIGHT
DTSTART:20260308T030000
TZOFFSETFROM:-0500
TZOFFSETTO:-0400
RRULE:FREQ=YEARLY;BYDAY=2SU;BYMONTH=3
TZNAME:EDT
END:DAYLIGHT
BEGIN:STANDARD
DTSTART:20261101T010000
TZOFFSETFROM:-0400
TZOFFSETTO:-0500
RRULE:FREQ=YEARLY;BYDAY=1SU;BYMONTH=11
TZNAME:EST
END:STANDARD
END:VTIMEZONE
BEGIN:VEVENT
DTSTAMP:20260422T100252Z
UID:drawid:181806
DTSTART:20251001T110000
DTEND:20251001T130000
DESCRIPTION:Parties: TBD\, TBD
LOCATION:3283 Dundas Street West\, Toronto\, M6P 2A5\, ON\, CA
SEQUENCE:1776852172
SUMMARY:2025 Stu Sells Toronto Tankard - Women
URL;VALUE=URI:https://stucurls.curling.io/fr/events/22918-2025-stu-sells-to
 ronto-tankard-women/draws
END:VEVENT
BEGIN:VEVENT
DTSTAMP:20260422T100252Z
UID:drawid:181807
DTSTART:20251001T143000
DTEND:20251001T163000
DESCRIPTION:Parties: TBD\, TBD
LOCATION:3283 Dundas Street West\, Toronto\, M6P 2A5\, ON\, CA
SEQUENCE:1776852172
SUMMARY:2025 Stu Sells Toronto Tankard - Women
URL;VALUE=URI:https://stucurls.curling.io/fr/events/22918-2025-stu-sells-to
 ronto-tankard-women/draws
END:VEVENT
BEGIN:VEVENT
DTSTAMP:20260422T100252Z
UID:drawid:181808
DTSTART:20251002T080000
DTEND:20251002T100000
DESCRIPTION:Parties: TBD\, TBD\, TBD
LOCATION:3283 Dundas Street West\, Toronto\, M6P 2A5\, ON\, CA
SEQUENCE:1776852172
SUMMARY:2025 Stu Sells Toronto Tankard - Women
URL;VALUE=URI:https://stucurls.curling.io/fr/events/22918-2025-stu-sells-to
 ronto-tankard-women/draws
END:VEVENT
BEGIN:VEVENT
DTSTAMP:20260422T100252Z
UID:drawid:181809
DTSTART:20251002T111500
DTEND:20251002T131500
DESCRIPTION:Parties: TBD\, TBD
LOCATION:3283 Dundas Street West\, Toronto\, M6P 2A5\, ON\, CA
SEQUENCE:1776852172
SUMMARY:2025 Stu Sells Toronto Tankard - Women
URL;VALUE=URI:https://stucurls.curling.io/fr/events/22918-2025-stu-sells-to
 ronto-tankard-women/draws
END:VEVENT
BEGIN:VEVENT
DTSTAMP:20260422T100252Z
UID:drawid:181810
DTSTART:20251002T143000
DTEND:20251002T163000
DESCRIPTION:Parties: TBD\, TBD\, TBD
LOCATION:3283 Dundas Street West\, Toronto\, M6P 2A5\, ON\, CA
SEQUENCE:1776852172
SUMMARY:2025 Stu Sells Toronto Tankard - Women
URL;VALUE=URI:https://stucurls.curling.io/fr/events/22918-2025-stu-sells-to
 ronto-tankard-women/draws
END:VEVENT
BEGIN:VEVENT
DTSTAMP:20260422T100252Z
UID:drawid:181811
DTSTART:20251002T180000
DTEND:20251002T200000
DESCRIPTION:Parties: TBD\, TBD
LOCATION:3283 Dundas Street West\, Toronto\, M6P 2A5\, ON\, CA
SEQUENCE:1776852172
SUMMARY:2025 Stu Sells Toronto Tankard - Women
URL;VALUE=URI:https://stucurls.curling.io/fr/events/22918-2025-stu-sells-to
 ronto-tankard-women/draws
END:VEVENT
BEGIN:VEVENT
DTSTAMP:20260422T100252Z
UID:drawid:181812
DTSTART:20251002T213000
DTEND:20251002T233000
DESCRIPTION:Parties: TBD\, TBD\, TBD
LOCATION:3283 Dundas Street West\, Toronto\, M6P 2A5\, ON\, CA
SEQUENCE:1776852172
SUMMARY:2025 Stu Sells Toronto Tankard - Women
URL;VALUE=URI:https://stucurls.curling.io/fr/events/22918-2025-stu-sells-to
 ronto-tankard-women/draws
END:VEVENT
BEGIN:VEVENT
DTSTAMP:20260422T100252Z
UID:drawid:181813
DTSTART:20251003T080000
DTEND:20251003T100000
DESCRIPTION:Parties: TBD\, TBD
LOCATION:3283 Dundas Street West\, Toronto\, M6P 2A5\, ON\, CA
SEQUENCE:1776852172
SUMMARY:2025 Stu Sells Toronto Tankard - Women
URL;VALUE=URI:https://stucurls.curling.io/fr/events/22918-2025-stu-sells-to
 ronto-tankard-women/draws
END:VEVENT
BEGIN:VEVENT
DTSTAMP:20260422T100252Z
UID:drawid:181814
DTSTART:20251003T111500
DTEND:20251003T131500
DESCRIPTION:Parties: TBD\, TBD\, TBD
LOCATION:3283 Dundas Street West\, Toronto\, M6P 2A5\, ON\, CA
SEQUENCE:1776852172
SUMMARY:2025 Stu Sells Toronto Tankard - Women
URL;VALUE=URI:https://stucurls.curling.io/fr/events/22918-2025-stu-sells-to
 ronto-tankard-women/draws
END:VEVENT
BEGIN:VEVENT
DTSTAMP:20260422T100252Z
UID:drawid:181815
DTSTART:20251003T143000
DTEND:20251003T163000
DESCRIPTION:Parties: TBD\, TBD
LOCATION:3283 Dundas Street West\, Toronto\, M6P 2A5\, ON\, CA
SEQUENCE:1776852172
SUMMARY:2025 Stu Sells Toronto Tankard - Women
URL;VALUE=URI:https://stucurls.curling.io/fr/events/22918-2025-stu-sells-to
 ronto-tankard-women/draws
END:VEVENT
BEGIN:VEVENT
DTSTAMP:20260422T100252Z
UID:drawid:181816
DTSTART:20251003T180000
DTEND:20251003T200000
DESCRIPTION:Parties: TBD\, TBD\, TBD
LOCATION:3283 Dundas Street West\, Toronto\, M6P 2A5\, ON\, CA
SEQUENCE:1776852172
SUMMARY:2025 Stu Sells Toronto Tankard - Women
URL;VALUE=URI:https://stucurls.curling.io/fr/events/22918-2025-stu-sells-to
 ronto-tankard-women/draws
END:VEVENT
BEGIN:VEVENT
DTSTAMP:20260422T100252Z
UID:drawid:181817
DTSTART:20251003T213000
DTEND:20251003T233000
DESCRIPTION:Parties: TBD\, TBD
LOCATION:3283 Dundas Street West\, Toronto\, M6P 2A5\, ON\, CA
SEQUENCE:1776852172
SUMMARY:2025 Stu Sells Toronto Tankard - Women
URL;VALUE=URI:https://stucurls.curling.io/fr/events/22918-2025-stu-sells-to
 ronto-tankard-women/draws
END:VEVENT
BEGIN:VEVENT
DTSTAMP:20260422T100252Z
UID:drawid:181818
DTSTART:20251004T080000
DTEND:20251004T100000
DESCRIPTION:Parties: TBD\, TBD\, TBD\, TBD\, TBD
LOCATION:3283 Dundas Street West\, Toronto\, M6P 2A5\, ON\, CA
SEQUENCE:1776852172
SUMMARY:2025 Stu Sells Toronto Tankard - Women
URL;VALUE=URI:https://stucurls.curling.io/fr/events/22918-2025-stu-sells-to
 ronto-tankard-women/draws
END:VEVENT
BEGIN:VEVENT
DTSTAMP:20260422T100252Z
UID:drawid:181819
DTSTART:20251004T111500
DTEND:20251004T131500
DESCRIPTION:Parties: TBD\, TBD
LOCATION:3283 Dundas Street West\, Toronto\, M6P 2A5\, ON\, CA
SEQUENCE:1776852172
SUMMARY:2025 Stu Sells Toronto Tankard - Women
URL;VALUE=URI:https://stucurls.curling.io/fr/events/22918-2025-stu-sells-to
 ronto-tankard-women/draws
END:VEVENT
BEGIN:VEVENT
DTSTAMP:20260422T100252Z
UID:drawid:181820
DTSTART:20251004T143000
DTEND:20251004T163000
DESCRIPTION:Parties: 
LOCATION:3283 Dundas Street West\, Toronto\, M6P 2A5\, ON\, CA
SEQUENCE:1776852172
SUMMARY:2025 Stu Sells Toronto Tankard - Women
URL;VALUE=URI:https://stucurls.curling.io/fr/events/22918-2025-stu-sells-to
 ronto-tankard-women/draws
END:VEVENT
BEGIN:VEVENT
DTSTAMP:20260422T100252Z
UID:drawid:181821
DTSTART:20251004T180000
DTEND:20251004T200000
DESCRIPTION:Parties: 3 v 6\, 2 v 7\, 1 v 8\, 4 v 5
LOCATION:3283 Dundas Street West\, Toronto\, M6P 2A5\, ON\, CA
SEQUENCE:1776852172
SUMMARY:2025 Stu Sells Toronto Tankard - Women
URL;VALUE=URI:https://stucurls.curling.io/fr/events/22918-2025-stu-sells-to
 ronto-tankard-women/draws
END:VEVENT
BEGIN:VEVENT
DTSTAMP:20260422T100252Z
UID:drawid:181822
DTSTART:20251004T213000
DTEND:20251004T233000
DESCRIPTION:Parties: 
LOCATION:3283 Dundas Street West\, Toronto\, M6P 2A5\, ON\, CA
SEQUENCE:1776852172
SUMMARY:2025 Stu Sells Toronto Tankard - Women
URL;VALUE=URI:https://stucurls.curling.io/fr/events/22918-2025-stu-sells-to
 ronto-tankard-women/draws
END:VEVENT
BEGIN:VEVENT
DTSTAMP:20260422T100252Z
UID:drawid:181823
DTSTART:20251005T080000
DTEND:20251005T100000
DESCRIPTION:Parties: 10 v 15\, 12 v 13\, 11 v 14\, 9 v 16
LOCATION:3283 Dundas Street West\, Toronto\, M6P 2A5\, ON\, CA
SEQUENCE:1776852172
SUMMARY:2025 Stu Sells Toronto Tankard - Women
URL;VALUE=URI:https://stucurls.curling.io/fr/events/22918-2025-stu-sells-to
 ronto-tankard-women/draws
END:VEVENT
BEGIN:VEVENT
DTSTAMP:20260422T100252Z
UID:drawid:181824
DTSTART:20251005T111500
DTEND:20251005T131500
DESCRIPTION:Parties: 
LOCATION:3283 Dundas Street West\, Toronto\, M6P 2A5\, ON\, CA
SEQUENCE:1776852172
SUMMARY:2025 Stu Sells Toronto Tankard - Women
URL;VALUE=URI:https://stucurls.curling.io/fr/events/22918-2025-stu-sells-to
 ronto-tankard-women/draws
END:VEVENT
BEGIN:VEVENT
DTSTAMP:20260422T100252Z
UID:drawid:181825
DTSTART:20251005T143000
DTEND:20251005T163000
DESCRIPTION:Parties: Q5\, Q6\, Q8\, Q7
LOCATION:3283 Dundas Street West\, Toronto\, M6P 2A5\, ON\, CA
SEQUENCE:1776852172
SUMMARY:2025 Stu Sells Toronto Tankard - Women
URL;VALUE=URI:https://stucurls.curling.io/fr/events/22918-2025-stu-sells-to
 ronto-tankard-women/draws
END:VEVENT
BEGIN:VEVENT
DTSTAMP:20260422T100252Z
UID:drawid:181826
DTSTART:20251005T180000
DTEND:20251005T200000
DESCRIPTION:Parties: 
LOCATION:3283 Dundas Street West\, Toronto\, M6P 2A5\, ON\, CA
SEQUENCE:1776852172
SUMMARY:2025 Stu Sells Toronto Tankard - Women
URL;VALUE=URI:https://stucurls.curling.io/fr/events/22918-2025-stu-sells-to
 ronto-tankard-women/draws
END:VEVENT
BEGIN:VEVENT
DTSTAMP:20260422T100252Z
UID:drawid:181827
DTSTART:20251005T213000
DTEND:20251005T233000
DESCRIPTION:Parties: QF3\, QF1\, QF2\, QF4
LOCATION:3283 Dundas Street West\, Toronto\, M6P 2A5\, ON\, CA
SEQUENCE:1776852172
SUMMARY:2025 Stu Sells Toronto Tankard - Women
URL;VALUE=URI:https://stucurls.curling.io/fr/events/22918-2025-stu-sells-to
 ronto-tankard-women/draws
END:VEVENT
BEGIN:VEVENT
DTSTAMP:20260422T100252Z
UID:drawid:181828
DTSTART:20251006T083000
DTEND:20251006T103000
DESCRIPTION:Parties: SF1\, SF2
LOCATION:3283 Dundas Street West\, Toronto\, M6P 2A5\, ON\, CA
SEQUENCE:1776852172
SUMMARY:2025 Stu Sells Toronto Tankard - Women
URL;VALUE=URI:https://stucurls.curling.io/fr/events/22918-2025-stu-sells-to
 ronto-tankard-women/draws
END:VEVENT
BEGIN:VEVENT
DTSTAMP:20260422T100252Z
UID:drawid:181829
DTSTART:20251006T123000
DTEND:20251006T143000
DESCRIPTION:Parties: CF
LOCATION:3283 Dundas Street West\, Toronto\, M6P 2A5\, ON\, CA
SEQUENCE:1776852172
SUMMARY:2025 Stu Sells Toronto Tankard - Women
URL;VALUE=URI:https://stucurls.curling.io/fr/events/22918-2025-stu-sells-to
 ronto-tankard-women/draws
END:VEVENT
BEGIN:VEVENT
DTSTAMP:20260422T100252Z
UID:drawid:181830
DTSTART:20251006T160000
DTEND:20251006T180000
DESCRIPTION:Parties: 
LOCATION:3283 Dundas Street West\, Toronto\, M6P 2A5\, ON\, CA
SEQUENCE:1776852172
SUMMARY:2025 Stu Sells Toronto Tankard - Women
URL;VALUE=URI:https://stucurls.curling.io/fr/events/22918-2025-stu-sells-to
 ronto-tankard-women/draws
END:VEVENT
END:VCALENDAR
