BEGIN:VCALENDAR
VERSION:2.0
PRODID:icalendar-ruby
CALSCALE:GREGORIAN
METHOD:PUBLISH
X-WR-CALNAME:2025 Stu Sells Brantford Nissan Classic - Men Calendrier
BEGIN:VTIMEZONE
TZID:America/New_York
BEGIN:DAYLIGHT
DTSTART:20260308T030000
TZOFFSETFROM:-0500
TZOFFSETTO:-0400
RRULE:FREQ=YEARLY;BYDAY=2SU;BYMONTH=3
TZNAME:EDT
END:DAYLIGHT
BEGIN:STANDARD
DTSTART:20261101T010000
TZOFFSETFROM:-0400
TZOFFSETTO:-0500
RRULE:FREQ=YEARLY;BYDAY=1SU;BYMONTH=11
TZNAME:EST
END:STANDARD
END:VTIMEZONE
BEGIN:VEVENT
DTSTAMP:20260422T100548Z
UID:drawid:198146
DTSTART:20251128T080000
DTEND:20251128T100000
DESCRIPTION:Parties: 1\, 2\, 3\, 4\, 6
LOCATION:3283 Dundas Street West\, Toronto\, M6P 2A5\, ON\, CA
SEQUENCE:1776852348
SUMMARY:2025 Stu Sells Brantford Nissan Classic - Men
URL;VALUE=URI:https://stucurls.curling.io/fr/events/22919-2025-stu-sells-br
 antford-nissan-classic-men/draws
END:VEVENT
BEGIN:VEVENT
DTSTAMP:20260422T100548Z
UID:drawid:198147
DTSTART:20251128T104500
DTEND:20251128T124500
DESCRIPTION:Parties: 8\, 10\, 12
LOCATION:3283 Dundas Street West\, Toronto\, M6P 2A5\, ON\, CA
SEQUENCE:1776852348
SUMMARY:2025 Stu Sells Brantford Nissan Classic - Men
URL;VALUE=URI:https://stucurls.curling.io/fr/events/22919-2025-stu-sells-br
 antford-nissan-classic-men/draws
END:VEVENT
BEGIN:VEVENT
DTSTAMP:20260422T100548Z
UID:drawid:198148
DTSTART:20251128T161500
DTEND:20251128T181500
DESCRIPTION:Parties: 5\, 7\, 9\, 11
LOCATION:3283 Dundas Street West\, Toronto\, M6P 2A5\, ON\, CA
SEQUENCE:1776852348
SUMMARY:2025 Stu Sells Brantford Nissan Classic - Men
URL;VALUE=URI:https://stucurls.curling.io/fr/events/22919-2025-stu-sells-br
 antford-nissan-classic-men/draws
END:VEVENT
BEGIN:VEVENT
DTSTAMP:20260422T100548Z
UID:drawid:198149
DTSTART:20251128T214500
DTEND:20251128T234500
DESCRIPTION:Parties: 22\, 19\, 20\, 21
LOCATION:3283 Dundas Street West\, Toronto\, M6P 2A5\, ON\, CA
SEQUENCE:1776852348
SUMMARY:2025 Stu Sells Brantford Nissan Classic - Men
URL;VALUE=URI:https://stucurls.curling.io/fr/events/22919-2025-stu-sells-br
 antford-nissan-classic-men/draws
END:VEVENT
BEGIN:VEVENT
DTSTAMP:20260422T100548Z
UID:drawid:198150
DTSTART:20251129T104500
DTEND:20251129T124500
DESCRIPTION:Parties: 16\, 14\, 15\, 13\, 24
LOCATION:3283 Dundas Street West\, Toronto\, M6P 2A5\, ON\, CA
SEQUENCE:1776852348
SUMMARY:2025 Stu Sells Brantford Nissan Classic - Men
URL;VALUE=URI:https://stucurls.curling.io/fr/events/22919-2025-stu-sells-br
 antford-nissan-classic-men/draws
END:VEVENT
BEGIN:VEVENT
DTSTAMP:20260422T100548Z
UID:drawid:198151
DTSTART:20251129T133000
DTEND:20251129T153000
DESCRIPTION:Parties: 26\, 25\, 23
LOCATION:3283 Dundas Street West\, Toronto\, M6P 2A5\, ON\, CA
SEQUENCE:1776852348
SUMMARY:2025 Stu Sells Brantford Nissan Classic - Men
URL;VALUE=URI:https://stucurls.curling.io/fr/events/22919-2025-stu-sells-br
 antford-nissan-classic-men/draws
END:VEVENT
BEGIN:VEVENT
DTSTAMP:20260422T100548Z
UID:drawid:198152
DTSTART:20251129T161500
DTEND:20251129T181500
DESCRIPTION:Parties: 17\, 30\, 37\, 18
LOCATION:3283 Dundas Street West\, Toronto\, M6P 2A5\, ON\, CA
SEQUENCE:1776852348
SUMMARY:2025 Stu Sells Brantford Nissan Classic - Men
URL;VALUE=URI:https://stucurls.curling.io/fr/events/22919-2025-stu-sells-br
 antford-nissan-classic-men/draws
END:VEVENT
BEGIN:VEVENT
DTSTAMP:20260422T100548Z
UID:drawid:198156
DTSTART:20251129T190000
DTEND:20251129T210000
DESCRIPTION:Parties: 36\, 35\, 34
LOCATION:3283 Dundas Street West\, Toronto\, M6P 2A5\, ON\, CA
SEQUENCE:1776852348
SUMMARY:2025 Stu Sells Brantford Nissan Classic - Men
URL;VALUE=URI:https://stucurls.curling.io/fr/events/22919-2025-stu-sells-br
 antford-nissan-classic-men/draws
END:VEVENT
BEGIN:VEVENT
DTSTAMP:20260422T100548Z
UID:drawid:198153
DTSTART:20251129T214500
DTEND:20251129T234500
DESCRIPTION:Parties: 28\, 29\, 27
LOCATION:3283 Dundas Street West\, Toronto\, M6P 2A5\, ON\, CA
SEQUENCE:1776852348
SUMMARY:2025 Stu Sells Brantford Nissan Classic - Men
URL;VALUE=URI:https://stucurls.curling.io/fr/events/22919-2025-stu-sells-br
 antford-nissan-classic-men/draws
END:VEVENT
BEGIN:VEVENT
DTSTAMP:20260422T100548Z
UID:drawid:198154
DTSTART:20251130T080000
DTEND:20251130T100000
DESCRIPTION:Parties: 38\, 39
LOCATION:3283 Dundas Street West\, Toronto\, M6P 2A5\, ON\, CA
SEQUENCE:1776852348
SUMMARY:2025 Stu Sells Brantford Nissan Classic - Men
URL;VALUE=URI:https://stucurls.curling.io/fr/events/22919-2025-stu-sells-br
 antford-nissan-classic-men/draws
END:VEVENT
BEGIN:VEVENT
DTSTAMP:20260422T100548Z
UID:drawid:198155
DTSTART:20251130T104500
DTEND:20251130T124500
DESCRIPTION:Parties: 41\, 32
LOCATION:3283 Dundas Street West\, Toronto\, M6P 2A5\, ON\, CA
SEQUENCE:1776852348
SUMMARY:2025 Stu Sells Brantford Nissan Classic - Men
URL;VALUE=URI:https://stucurls.curling.io/fr/events/22919-2025-stu-sells-br
 antford-nissan-classic-men/draws
END:VEVENT
BEGIN:VEVENT
DTSTAMP:20260422T100548Z
UID:drawid:198158
DTSTART:20251130T133000
DTEND:20251130T153000
DESCRIPTION:Parties: 31\, 42\, 40\, 33
LOCATION:3283 Dundas Street West\, Toronto\, M6P 2A5\, ON\, CA
SEQUENCE:1776852348
SUMMARY:2025 Stu Sells Brantford Nissan Classic - Men
URL;VALUE=URI:https://stucurls.curling.io/fr/events/22919-2025-stu-sells-br
 antford-nissan-classic-men/draws
END:VEVENT
BEGIN:VEVENT
DTSTAMP:20260422T100548Z
UID:drawid:198159
DTSTART:20251130T190000
DTEND:20251130T210000
DESCRIPTION:Parties: 43\, 44\, 45
LOCATION:3283 Dundas Street West\, Toronto\, M6P 2A5\, ON\, CA
SEQUENCE:1776852348
SUMMARY:2025 Stu Sells Brantford Nissan Classic - Men
URL;VALUE=URI:https://stucurls.curling.io/fr/events/22919-2025-stu-sells-br
 antford-nissan-classic-men/draws
END:VEVENT
BEGIN:VEVENT
DTSTAMP:20260422T100548Z
UID:drawid:198157
DTSTART:20251201T090000
DTEND:20251201T110000
DESCRIPTION:Parties: QF4\, QF2\, QF1\, QF3
LOCATION:3283 Dundas Street West\, Toronto\, M6P 2A5\, ON\, CA
SEQUENCE:1776852348
SUMMARY:2025 Stu Sells Brantford Nissan Classic - Men
URL;VALUE=URI:https://stucurls.curling.io/fr/events/22919-2025-stu-sells-br
 antford-nissan-classic-men/draws
END:VEVENT
BEGIN:VEVENT
DTSTAMP:20260422T100548Z
UID:drawid:198191
DTSTART:20251201T150000
DTEND:20251201T170000
DESCRIPTION:Parties: SF1\, SF2
LOCATION:3283 Dundas Street West\, Toronto\, M6P 2A5\, ON\, CA
SEQUENCE:1776852348
SUMMARY:2025 Stu Sells Brantford Nissan Classic - Men
URL;VALUE=URI:https://stucurls.curling.io/fr/events/22919-2025-stu-sells-br
 antford-nissan-classic-men/draws
END:VEVENT
BEGIN:VEVENT
DTSTAMP:20260422T100548Z
UID:drawid:198192
DTSTART:20251201T180000
DTEND:20251201T200000
DESCRIPTION:Parties: CF
LOCATION:3283 Dundas Street West\, Toronto\, M6P 2A5\, ON\, CA
SEQUENCE:1776852348
SUMMARY:2025 Stu Sells Brantford Nissan Classic - Men
URL;VALUE=URI:https://stucurls.curling.io/fr/events/22919-2025-stu-sells-br
 antford-nissan-classic-men/draws
END:VEVENT
END:VCALENDAR
