BEGIN:VCALENDAR
VERSION:2.0
PRODID:icalendar-ruby
CALSCALE:GREGORIAN
METHOD:PUBLISH
X-WR-CALNAME:2025 Stu Sells Brantford Nissan Classic - Women Calendrier
BEGIN:VTIMEZONE
TZID:America/New_York
BEGIN:DAYLIGHT
DTSTART:20260308T030000
TZOFFSETFROM:-0500
TZOFFSETTO:-0400
RRULE:FREQ=YEARLY;BYDAY=2SU;BYMONTH=3
TZNAME:EDT
END:DAYLIGHT
BEGIN:STANDARD
DTSTART:20261101T010000
TZOFFSETFROM:-0400
TZOFFSETTO:-0500
RRULE:FREQ=YEARLY;BYDAY=1SU;BYMONTH=11
TZNAME:EST
END:STANDARD
END:VTIMEZONE
BEGIN:VEVENT
DTSTAMP:20260422T095956Z
UID:drawid:198174
DTSTART:20251128T104500
DTEND:20251128T124500
DESCRIPTION:Parties: 1\, 2
LOCATION:3283 Dundas Street West\, Toronto\, M6P 2A5\, ON\, CA
SEQUENCE:1776851996
SUMMARY:2025 Stu Sells Brantford Nissan Classic - Women
URL;VALUE=URI:https://stucurls.curling.io/fr/events/22920-2025-stu-sells-br
 antford-nissan-classic-women/draws
END:VEVENT
BEGIN:VEVENT
DTSTAMP:20260422T095956Z
UID:drawid:198175
DTSTART:20251128T133000
DTEND:20251128T153000
DESCRIPTION:Parties: 3\, 4\, 6\, 8\, 10
LOCATION:3283 Dundas Street West\, Toronto\, M6P 2A5\, ON\, CA
SEQUENCE:1776851996
SUMMARY:2025 Stu Sells Brantford Nissan Classic - Women
URL;VALUE=URI:https://stucurls.curling.io/fr/events/22920-2025-stu-sells-br
 antford-nissan-classic-women/draws
END:VEVENT
BEGIN:VEVENT
DTSTAMP:20260422T095956Z
UID:drawid:198176
DTSTART:20251128T161500
DTEND:20251128T181500
DESCRIPTION:Parties: 12
LOCATION:3283 Dundas Street West\, Toronto\, M6P 2A5\, ON\, CA
SEQUENCE:1776851996
SUMMARY:2025 Stu Sells Brantford Nissan Classic - Women
URL;VALUE=URI:https://stucurls.curling.io/fr/events/22920-2025-stu-sells-br
 antford-nissan-classic-women/draws
END:VEVENT
BEGIN:VEVENT
DTSTAMP:20260422T095956Z
UID:drawid:198177
DTSTART:20251128T190000
DTEND:20251128T210000
DESCRIPTION:Parties: 5\, 7\, 9\, 11
LOCATION:3283 Dundas Street West\, Toronto\, M6P 2A5\, ON\, CA
SEQUENCE:1776851996
SUMMARY:2025 Stu Sells Brantford Nissan Classic - Women
URL;VALUE=URI:https://stucurls.curling.io/fr/events/22920-2025-stu-sells-br
 antford-nissan-classic-women/draws
END:VEVENT
BEGIN:VEVENT
DTSTAMP:20260422T095956Z
UID:drawid:198178
DTSTART:20251129T080000
DTEND:20251129T100000
DESCRIPTION:Parties: 19\, 21\, 20\, 22
LOCATION:3283 Dundas Street West\, Toronto\, M6P 2A5\, ON\, CA
SEQUENCE:1776851996
SUMMARY:2025 Stu Sells Brantford Nissan Classic - Women
URL;VALUE=URI:https://stucurls.curling.io/fr/events/22920-2025-stu-sells-br
 antford-nissan-classic-women/draws
END:VEVENT
BEGIN:VEVENT
DTSTAMP:20260422T095956Z
UID:drawid:198179
DTSTART:20251129T130000
DTEND:20251129T150000
DESCRIPTION:Parties: 13 (PCC)\, 14 (PCC)\, 15 (PCC)\, 16 (PCC)
LOCATION:3283 Dundas Street West\, Toronto\, M6P 2A5\, ON\, CA
SEQUENCE:1776851996
SUMMARY:2025 Stu Sells Brantford Nissan Classic - Women
URL;VALUE=URI:https://stucurls.curling.io/fr/events/22920-2025-stu-sells-br
 antford-nissan-classic-women/draws
END:VEVENT
BEGIN:VEVENT
DTSTAMP:20260422T095956Z
UID:drawid:198180
DTSTART:20251129T160000
DTEND:20251129T180000
DESCRIPTION:Parties: 23 (PCC)\, 24 (PCC)\, 25 (PCC)\, 26 (PCC)
LOCATION:3283 Dundas Street West\, Toronto\, M6P 2A5\, ON\, CA
SEQUENCE:1776851996
SUMMARY:2025 Stu Sells Brantford Nissan Classic - Women
URL;VALUE=URI:https://stucurls.curling.io/fr/events/22920-2025-stu-sells-br
 antford-nissan-classic-women/draws
END:VEVENT
BEGIN:VEVENT
DTSTAMP:20260422T095956Z
UID:drawid:198181
DTSTART:20251129T190000
DTEND:20251129T210000
DESCRIPTION:Parties: 17\, 18
LOCATION:3283 Dundas Street West\, Toronto\, M6P 2A5\, ON\, CA
SEQUENCE:1776851996
SUMMARY:2025 Stu Sells Brantford Nissan Classic - Women
URL;VALUE=URI:https://stucurls.curling.io/fr/events/22920-2025-stu-sells-br
 antford-nissan-classic-women/draws
END:VEVENT
BEGIN:VEVENT
DTSTAMP:20260422T095956Z
UID:drawid:198186
DTSTART:20251129T200000
DTEND:20251129T220000
DESCRIPTION:Parties: 34 (PCC)\, 35 (PCC)\, 36 (PCC)\, 37 (PCC)
LOCATION:3283 Dundas Street West\, Toronto\, M6P 2A5\, ON\, CA
SEQUENCE:1776851996
SUMMARY:2025 Stu Sells Brantford Nissan Classic - Women
URL;VALUE=URI:https://stucurls.curling.io/fr/events/22920-2025-stu-sells-br
 antford-nissan-classic-women/draws
END:VEVENT
BEGIN:VEVENT
DTSTAMP:20260422T095956Z
UID:drawid:198182
DTSTART:20251129T214500
DTEND:20251129T234500
DESCRIPTION:Parties: 27
LOCATION:3283 Dundas Street West\, Toronto\, M6P 2A5\, ON\, CA
SEQUENCE:1776851996
SUMMARY:2025 Stu Sells Brantford Nissan Classic - Women
URL;VALUE=URI:https://stucurls.curling.io/fr/events/22920-2025-stu-sells-br
 antford-nissan-classic-women/draws
END:VEVENT
BEGIN:VEVENT
DTSTAMP:20260422T095956Z
UID:drawid:198183
DTSTART:20251130T080000
DTEND:20251130T100000
DESCRIPTION:Parties: 28\, 38\, 39
LOCATION:3283 Dundas Street West\, Toronto\, M6P 2A5\, ON\, CA
SEQUENCE:1776851996
SUMMARY:2025 Stu Sells Brantford Nissan Classic - Women
URL;VALUE=URI:https://stucurls.curling.io/fr/events/22920-2025-stu-sells-br
 antford-nissan-classic-women/draws
END:VEVENT
BEGIN:VEVENT
DTSTAMP:20260422T095956Z
UID:drawid:198184
DTSTART:20251130T104500
DTEND:20251130T124500
DESCRIPTION:Parties: 29\, 30
LOCATION:3283 Dundas Street West\, Toronto\, M6P 2A5\, ON\, CA
SEQUENCE:1776851996
SUMMARY:2025 Stu Sells Brantford Nissan Classic - Women
URL;VALUE=URI:https://stucurls.curling.io/fr/events/22920-2025-stu-sells-br
 antford-nissan-classic-women/draws
END:VEVENT
BEGIN:VEVENT
DTSTAMP:20260422T095956Z
UID:drawid:198789
DTSTART:20251130T133000
DTEND:20251130T153000
DESCRIPTION:Parties: 41
LOCATION:3283 Dundas Street West\, Toronto\, M6P 2A5\, ON\, CA
SEQUENCE:1776851996
SUMMARY:2025 Stu Sells Brantford Nissan Classic - Women
URL;VALUE=URI:https://stucurls.curling.io/fr/events/22920-2025-stu-sells-br
 antford-nissan-classic-women/draws
END:VEVENT
BEGIN:VEVENT
DTSTAMP:20260422T095956Z
UID:drawid:198185
DTSTART:20251130T161500
DTEND:20251130T181500
DESCRIPTION:Parties: 40\, 42\, 32\, 31\, 33
LOCATION:3283 Dundas Street West\, Toronto\, M6P 2A5\, ON\, CA
SEQUENCE:1776851996
SUMMARY:2025 Stu Sells Brantford Nissan Classic - Women
URL;VALUE=URI:https://stucurls.curling.io/fr/events/22920-2025-stu-sells-br
 antford-nissan-classic-women/draws
END:VEVENT
BEGIN:VEVENT
DTSTAMP:20260422T095956Z
UID:drawid:198187
DTSTART:20251130T214500
DTEND:20251130T234500
DESCRIPTION:Parties: 44\, 45\, 43
LOCATION:3283 Dundas Street West\, Toronto\, M6P 2A5\, ON\, CA
SEQUENCE:1776851996
SUMMARY:2025 Stu Sells Brantford Nissan Classic - Women
URL;VALUE=URI:https://stucurls.curling.io/fr/events/22920-2025-stu-sells-br
 antford-nissan-classic-women/draws
END:VEVENT
BEGIN:VEVENT
DTSTAMP:20260422T095956Z
UID:drawid:198188
DTSTART:20251201T120000
DTEND:20251201T140000
DESCRIPTION:Parties: QF4\, QF2\, QF3\, QF1
LOCATION:3283 Dundas Street West\, Toronto\, M6P 2A5\, ON\, CA
SEQUENCE:1776851996
SUMMARY:2025 Stu Sells Brantford Nissan Classic - Women
URL;VALUE=URI:https://stucurls.curling.io/fr/events/22920-2025-stu-sells-br
 antford-nissan-classic-women/draws
END:VEVENT
BEGIN:VEVENT
DTSTAMP:20260422T095956Z
UID:drawid:198189
DTSTART:20251201T150000
DTEND:20251201T170000
DESCRIPTION:Parties: SF1\, SF2
LOCATION:3283 Dundas Street West\, Toronto\, M6P 2A5\, ON\, CA
SEQUENCE:1776851996
SUMMARY:2025 Stu Sells Brantford Nissan Classic - Women
URL;VALUE=URI:https://stucurls.curling.io/fr/events/22920-2025-stu-sells-br
 antford-nissan-classic-women/draws
END:VEVENT
BEGIN:VEVENT
DTSTAMP:20260422T095956Z
UID:drawid:198190
DTSTART:20251201T180000
DTEND:20251201T200000
DESCRIPTION:Parties: CF
LOCATION:3283 Dundas Street West\, Toronto\, M6P 2A5\, ON\, CA
SEQUENCE:1776851996
SUMMARY:2025 Stu Sells Brantford Nissan Classic - Women
URL;VALUE=URI:https://stucurls.curling.io/fr/events/22920-2025-stu-sells-br
 antford-nissan-classic-women/draws
END:VEVENT
END:VCALENDAR
