BEGIN:VCALENDAR
VERSION:2.0
PRODID:icalendar-ruby
CALSCALE:GREGORIAN
METHOD:PUBLISH
X-WR-CALNAME:2025 Stu Sells 1824 Halifax Classic - Men Calendrier
BEGIN:VTIMEZONE
TZID:America/New_York
BEGIN:DAYLIGHT
DTSTART:20260308T030000
TZOFFSETFROM:-0500
TZOFFSETTO:-0400
RRULE:FREQ=YEARLY;BYDAY=2SU;BYMONTH=3
TZNAME:EDT
END:DAYLIGHT
BEGIN:STANDARD
DTSTART:20261101T010000
TZOFFSETFROM:-0400
TZOFFSETTO:-0500
RRULE:FREQ=YEARLY;BYDAY=1SU;BYMONTH=11
TZNAME:EST
END:STANDARD
END:VTIMEZONE
BEGIN:VEVENT
DTSTAMP:20260422T100446Z
UID:drawid:195108
DTSTART:20251112T090000
DTEND:20251112T110000
DESCRIPTION:Parties: TBD\, TBD\, TBD\, TBD
LOCATION:3283 Dundas Street West\, Toronto\, M6P 2A5\, ON\, CA
SEQUENCE:1776852286
SUMMARY:2025 Stu Sells 1824 Halifax Classic - Men
URL;VALUE=URI:https://stucurls.curling.io/fr/events/23087-2025-stu-sells-18
 24-halifax-classic-men/draws
END:VEVENT
BEGIN:VEVENT
DTSTAMP:20260422T100446Z
UID:drawid:195110
DTSTART:20251112T163000
DTEND:20251112T183000
DESCRIPTION:Parties: TBD\, TBD
LOCATION:3283 Dundas Street West\, Toronto\, M6P 2A5\, ON\, CA
SEQUENCE:1776852286
SUMMARY:2025 Stu Sells 1824 Halifax Classic - Men
URL;VALUE=URI:https://stucurls.curling.io/fr/events/23087-2025-stu-sells-18
 24-halifax-classic-men/draws
END:VEVENT
BEGIN:VEVENT
DTSTAMP:20260422T100446Z
UID:drawid:195111
DTSTART:20251112T201500
DTEND:20251112T221500
DESCRIPTION:Parties: TBD
LOCATION:3283 Dundas Street West\, Toronto\, M6P 2A5\, ON\, CA
SEQUENCE:1776852286
SUMMARY:2025 Stu Sells 1824 Halifax Classic - Men
URL;VALUE=URI:https://stucurls.curling.io/fr/events/23087-2025-stu-sells-18
 24-halifax-classic-men/draws
END:VEVENT
BEGIN:VEVENT
DTSTAMP:20260422T100446Z
UID:drawid:195112
DTSTART:20251113T090000
DTEND:20251113T110000
DESCRIPTION:Parties: TBD\, TBD\, TBD
LOCATION:3283 Dundas Street West\, Toronto\, M6P 2A5\, ON\, CA
SEQUENCE:1776852286
SUMMARY:2025 Stu Sells 1824 Halifax Classic - Men
URL;VALUE=URI:https://stucurls.curling.io/fr/events/23087-2025-stu-sells-18
 24-halifax-classic-men/draws
END:VEVENT
BEGIN:VEVENT
DTSTAMP:20260422T100446Z
UID:drawid:195113
DTSTART:20251113T124500
DTEND:20251113T144500
DESCRIPTION:Parties: TBD\, TBD
LOCATION:3283 Dundas Street West\, Toronto\, M6P 2A5\, ON\, CA
SEQUENCE:1776852286
SUMMARY:2025 Stu Sells 1824 Halifax Classic - Men
URL;VALUE=URI:https://stucurls.curling.io/fr/events/23087-2025-stu-sells-18
 24-halifax-classic-men/draws
END:VEVENT
BEGIN:VEVENT
DTSTAMP:20260422T100446Z
UID:drawid:195114
DTSTART:20251113T163000
DTEND:20251113T183000
DESCRIPTION:Parties: TBD\, TBD
LOCATION:3283 Dundas Street West\, Toronto\, M6P 2A5\, ON\, CA
SEQUENCE:1776852286
SUMMARY:2025 Stu Sells 1824 Halifax Classic - Men
URL;VALUE=URI:https://stucurls.curling.io/fr/events/23087-2025-stu-sells-18
 24-halifax-classic-men/draws
END:VEVENT
BEGIN:VEVENT
DTSTAMP:20260422T100446Z
UID:drawid:195115
DTSTART:20251113T201500
DTEND:20251113T221500
DESCRIPTION:Parties: TBD\, TBD
LOCATION:3283 Dundas Street West\, Toronto\, M6P 2A5\, ON\, CA
SEQUENCE:1776852286
SUMMARY:2025 Stu Sells 1824 Halifax Classic - Men
URL;VALUE=URI:https://stucurls.curling.io/fr/events/23087-2025-stu-sells-18
 24-halifax-classic-men/draws
END:VEVENT
BEGIN:VEVENT
DTSTAMP:20260422T100446Z
UID:drawid:195116
DTSTART:20251114T090000
DTEND:20251114T110000
DESCRIPTION:Parties: TBD\, TBD
LOCATION:3283 Dundas Street West\, Toronto\, M6P 2A5\, ON\, CA
SEQUENCE:1776852286
SUMMARY:2025 Stu Sells 1824 Halifax Classic - Men
URL;VALUE=URI:https://stucurls.curling.io/fr/events/23087-2025-stu-sells-18
 24-halifax-classic-men/draws
END:VEVENT
BEGIN:VEVENT
DTSTAMP:20260422T100446Z
UID:drawid:195117
DTSTART:20251114T124500
DTEND:20251114T144500
DESCRIPTION:Parties: TBD
LOCATION:3283 Dundas Street West\, Toronto\, M6P 2A5\, ON\, CA
SEQUENCE:1776852286
SUMMARY:2025 Stu Sells 1824 Halifax Classic - Men
URL;VALUE=URI:https://stucurls.curling.io/fr/events/23087-2025-stu-sells-18
 24-halifax-classic-men/draws
END:VEVENT
BEGIN:VEVENT
DTSTAMP:20260422T100446Z
UID:drawid:195118
DTSTART:20251114T163000
DTEND:20251114T183000
DESCRIPTION:Parties: TBD\, TBD\, TBD
LOCATION:3283 Dundas Street West\, Toronto\, M6P 2A5\, ON\, CA
SEQUENCE:1776852286
SUMMARY:2025 Stu Sells 1824 Halifax Classic - Men
URL;VALUE=URI:https://stucurls.curling.io/fr/events/23087-2025-stu-sells-18
 24-halifax-classic-men/draws
END:VEVENT
BEGIN:VEVENT
DTSTAMP:20260422T100446Z
UID:drawid:195119
DTSTART:20251114T201500
DTEND:20251114T221500
DESCRIPTION:Parties: TBD\, TBD\, TBD
LOCATION:3283 Dundas Street West\, Toronto\, M6P 2A5\, ON\, CA
SEQUENCE:1776852286
SUMMARY:2025 Stu Sells 1824 Halifax Classic - Men
URL;VALUE=URI:https://stucurls.curling.io/fr/events/23087-2025-stu-sells-18
 24-halifax-classic-men/draws
END:VEVENT
BEGIN:VEVENT
DTSTAMP:20260422T100446Z
UID:drawid:195120
DTSTART:20251115T090000
DTEND:20251115T110000
DESCRIPTION:Parties: TBD\, TBD
LOCATION:3283 Dundas Street West\, Toronto\, M6P 2A5\, ON\, CA
SEQUENCE:1776852286
SUMMARY:2025 Stu Sells 1824 Halifax Classic - Men
URL;VALUE=URI:https://stucurls.curling.io/fr/events/23087-2025-stu-sells-18
 24-halifax-classic-men/draws
END:VEVENT
BEGIN:VEVENT
DTSTAMP:20260422T100446Z
UID:drawid:195121
DTSTART:20251115T124500
DTEND:20251115T144500
DESCRIPTION:Parties: TBD\, TBD\, TBD
LOCATION:3283 Dundas Street West\, Toronto\, M6P 2A5\, ON\, CA
SEQUENCE:1776852286
SUMMARY:2025 Stu Sells 1824 Halifax Classic - Men
URL;VALUE=URI:https://stucurls.curling.io/fr/events/23087-2025-stu-sells-18
 24-halifax-classic-men/draws
END:VEVENT
BEGIN:VEVENT
DTSTAMP:20260422T100446Z
UID:drawid:195123
DTSTART:20251115T201500
DTEND:20251115T221500
DESCRIPTION:Parties: TBD\, TBD
LOCATION:3283 Dundas Street West\, Toronto\, M6P 2A5\, ON\, CA
SEQUENCE:1776852286
SUMMARY:2025 Stu Sells 1824 Halifax Classic - Men
URL;VALUE=URI:https://stucurls.curling.io/fr/events/23087-2025-stu-sells-18
 24-halifax-classic-men/draws
END:VEVENT
BEGIN:VEVENT
DTSTAMP:20260422T100446Z
UID:drawid:195124
DTSTART:20251116T080000
DTEND:20251116T100000
DESCRIPTION:Parties: QF #1\, QF #2
LOCATION:3283 Dundas Street West\, Toronto\, M6P 2A5\, ON\, CA
SEQUENCE:1776852286
SUMMARY:2025 Stu Sells 1824 Halifax Classic - Men
URL;VALUE=URI:https://stucurls.curling.io/fr/events/23087-2025-stu-sells-18
 24-halifax-classic-men/draws
END:VEVENT
BEGIN:VEVENT
DTSTAMP:20260422T100446Z
UID:drawid:196548
DTSTART:20251116T113000
DTEND:20251116T133000
DESCRIPTION:Parties: SF #2\, SF #1
LOCATION:3283 Dundas Street West\, Toronto\, M6P 2A5\, ON\, CA
SEQUENCE:1776852286
SUMMARY:2025 Stu Sells 1824 Halifax Classic - Men
URL;VALUE=URI:https://stucurls.curling.io/fr/events/23087-2025-stu-sells-18
 24-halifax-classic-men/draws
END:VEVENT
BEGIN:VEVENT
DTSTAMP:20260422T100446Z
UID:drawid:195125
DTSTART:20251116T144500
DTEND:20251116T164500
DESCRIPTION:Parties: Final\, TBD
LOCATION:3283 Dundas Street West\, Toronto\, M6P 2A5\, ON\, CA
SEQUENCE:1776852286
SUMMARY:2025 Stu Sells 1824 Halifax Classic - Men
URL;VALUE=URI:https://stucurls.curling.io/fr/events/23087-2025-stu-sells-18
 24-halifax-classic-men/draws
END:VEVENT
END:VCALENDAR
