BEGIN:VCALENDAR
VERSION:2.0
PRODID:icalendar-ruby
CALSCALE:GREGORIAN
METHOD:PUBLISH
X-WR-CALNAME:2025 Stu Sells 1824 Halifax Classic - Women Calendrier
BEGIN:VTIMEZONE
TZID:America/New_York
BEGIN:DAYLIGHT
DTSTART:20260308T030000
TZOFFSETFROM:-0500
TZOFFSETTO:-0400
RRULE:FREQ=YEARLY;BYDAY=2SU;BYMONTH=3
TZNAME:EDT
END:DAYLIGHT
BEGIN:STANDARD
DTSTART:20261101T010000
TZOFFSETFROM:-0400
TZOFFSETTO:-0500
RRULE:FREQ=YEARLY;BYDAY=1SU;BYMONTH=11
TZNAME:EST
END:STANDARD
END:VTIMEZONE
BEGIN:VEVENT
DTSTAMP:20260422T100522Z
UID:drawid:195196
DTSTART:20251112T124500
DTEND:20251112T144500
DESCRIPTION:Parties: TBD\, TBD\, TBD\, TBD
LOCATION:3283 Dundas Street West\, Toronto\, M6P 2A5\, ON\, CA
SEQUENCE:1776852322
SUMMARY:2025 Stu Sells 1824 Halifax Classic - Women
URL;VALUE=URI:https://stucurls.curling.io/fr/events/23088-2025-stu-sells-18
 24-halifax-classic-women/draws
END:VEVENT
BEGIN:VEVENT
DTSTAMP:20260422T100522Z
UID:drawid:195197
DTSTART:20251112T163000
DTEND:20251112T183000
DESCRIPTION:Parties: TBD\, TBD
LOCATION:3283 Dundas Street West\, Toronto\, M6P 2A5\, ON\, CA
SEQUENCE:1776852322
SUMMARY:2025 Stu Sells 1824 Halifax Classic - Women
URL;VALUE=URI:https://stucurls.curling.io/fr/events/23088-2025-stu-sells-18
 24-halifax-classic-women/draws
END:VEVENT
BEGIN:VEVENT
DTSTAMP:20260422T100522Z
UID:drawid:195198
DTSTART:20251112T201500
DTEND:20251112T221500
DESCRIPTION:Parties: TBD\, TBD\, TBD
LOCATION:3283 Dundas Street West\, Toronto\, M6P 2A5\, ON\, CA
SEQUENCE:1776852322
SUMMARY:2025 Stu Sells 1824 Halifax Classic - Women
URL;VALUE=URI:https://stucurls.curling.io/fr/events/23088-2025-stu-sells-18
 24-halifax-classic-women/draws
END:VEVENT
BEGIN:VEVENT
DTSTAMP:20260422T100522Z
UID:drawid:195199
DTSTART:20251113T090000
DTEND:20251113T110000
DESCRIPTION:Parties: TBD
LOCATION:3283 Dundas Street West\, Toronto\, M6P 2A5\, ON\, CA
SEQUENCE:1776852322
SUMMARY:2025 Stu Sells 1824 Halifax Classic - Women
URL;VALUE=URI:https://stucurls.curling.io/fr/events/23088-2025-stu-sells-18
 24-halifax-classic-women/draws
END:VEVENT
BEGIN:VEVENT
DTSTAMP:20260422T100522Z
UID:drawid:195200
DTSTART:20251113T124500
DTEND:20251113T144500
DESCRIPTION:Parties: TBD\, TBD
LOCATION:3283 Dundas Street West\, Toronto\, M6P 2A5\, ON\, CA
SEQUENCE:1776852322
SUMMARY:2025 Stu Sells 1824 Halifax Classic - Women
URL;VALUE=URI:https://stucurls.curling.io/fr/events/23088-2025-stu-sells-18
 24-halifax-classic-women/draws
END:VEVENT
BEGIN:VEVENT
DTSTAMP:20260422T100522Z
UID:drawid:195201
DTSTART:20251113T163000
DTEND:20251113T183000
DESCRIPTION:Parties: TBD\, TBD
LOCATION:3283 Dundas Street West\, Toronto\, M6P 2A5\, ON\, CA
SEQUENCE:1776852322
SUMMARY:2025 Stu Sells 1824 Halifax Classic - Women
URL;VALUE=URI:https://stucurls.curling.io/fr/events/23088-2025-stu-sells-18
 24-halifax-classic-women/draws
END:VEVENT
BEGIN:VEVENT
DTSTAMP:20260422T100522Z
UID:drawid:195202
DTSTART:20251113T201500
DTEND:20251113T221500
DESCRIPTION:Parties: TBD\, TBD
LOCATION:3283 Dundas Street West\, Toronto\, M6P 2A5\, ON\, CA
SEQUENCE:1776852322
SUMMARY:2025 Stu Sells 1824 Halifax Classic - Women
URL;VALUE=URI:https://stucurls.curling.io/fr/events/23088-2025-stu-sells-18
 24-halifax-classic-women/draws
END:VEVENT
BEGIN:VEVENT
DTSTAMP:20260422T100522Z
UID:drawid:195203
DTSTART:20251114T090000
DTEND:20251114T110000
DESCRIPTION:Parties: TBD\, TBD
LOCATION:3283 Dundas Street West\, Toronto\, M6P 2A5\, ON\, CA
SEQUENCE:1776852322
SUMMARY:2025 Stu Sells 1824 Halifax Classic - Women
URL;VALUE=URI:https://stucurls.curling.io/fr/events/23088-2025-stu-sells-18
 24-halifax-classic-women/draws
END:VEVENT
BEGIN:VEVENT
DTSTAMP:20260422T100522Z
UID:drawid:195204
DTSTART:20251114T124500
DTEND:20251114T144500
DESCRIPTION:Parties: TBD\, TBD\, TBD
LOCATION:3283 Dundas Street West\, Toronto\, M6P 2A5\, ON\, CA
SEQUENCE:1776852322
SUMMARY:2025 Stu Sells 1824 Halifax Classic - Women
URL;VALUE=URI:https://stucurls.curling.io/fr/events/23088-2025-stu-sells-18
 24-halifax-classic-women/draws
END:VEVENT
BEGIN:VEVENT
DTSTAMP:20260422T100522Z
UID:drawid:195205
DTSTART:20251114T163000
DTEND:20251114T183000
DESCRIPTION:Parties: TBD
LOCATION:3283 Dundas Street West\, Toronto\, M6P 2A5\, ON\, CA
SEQUENCE:1776852322
SUMMARY:2025 Stu Sells 1824 Halifax Classic - Women
URL;VALUE=URI:https://stucurls.curling.io/fr/events/23088-2025-stu-sells-18
 24-halifax-classic-women/draws
END:VEVENT
BEGIN:VEVENT
DTSTAMP:20260422T100522Z
UID:drawid:195206
DTSTART:20251114T201500
DTEND:20251114T221500
DESCRIPTION:Parties: TBD
LOCATION:3283 Dundas Street West\, Toronto\, M6P 2A5\, ON\, CA
SEQUENCE:1776852322
SUMMARY:2025 Stu Sells 1824 Halifax Classic - Women
URL;VALUE=URI:https://stucurls.curling.io/fr/events/23088-2025-stu-sells-18
 24-halifax-classic-women/draws
END:VEVENT
BEGIN:VEVENT
DTSTAMP:20260422T100522Z
UID:drawid:195207
DTSTART:20251115T090000
DTEND:20251115T110000
DESCRIPTION:Parties: TBD\, TBD
LOCATION:3283 Dundas Street West\, Toronto\, M6P 2A5\, ON\, CA
SEQUENCE:1776852322
SUMMARY:2025 Stu Sells 1824 Halifax Classic - Women
URL;VALUE=URI:https://stucurls.curling.io/fr/events/23088-2025-stu-sells-18
 24-halifax-classic-women/draws
END:VEVENT
BEGIN:VEVENT
DTSTAMP:20260422T100522Z
UID:drawid:195208
DTSTART:20251115T124500
DTEND:20251115T144500
DESCRIPTION:Parties: TBD
LOCATION:3283 Dundas Street West\, Toronto\, M6P 2A5\, ON\, CA
SEQUENCE:1776852322
SUMMARY:2025 Stu Sells 1824 Halifax Classic - Women
URL;VALUE=URI:https://stucurls.curling.io/fr/events/23088-2025-stu-sells-18
 24-halifax-classic-women/draws
END:VEVENT
BEGIN:VEVENT
DTSTAMP:20260422T100522Z
UID:drawid:195209
DTSTART:20251115T163000
DTEND:20251115T183000
DESCRIPTION:Parties: TBD\, TBD\, TBD\, TBD
LOCATION:3283 Dundas Street West\, Toronto\, M6P 2A5\, ON\, CA
SEQUENCE:1776852322
SUMMARY:2025 Stu Sells 1824 Halifax Classic - Women
URL;VALUE=URI:https://stucurls.curling.io/fr/events/23088-2025-stu-sells-18
 24-halifax-classic-women/draws
END:VEVENT
BEGIN:VEVENT
DTSTAMP:20260422T100522Z
UID:drawid:195210
DTSTART:20251115T201500
DTEND:20251115T221500
DESCRIPTION:Parties: QF #2\, QF #1
LOCATION:3283 Dundas Street West\, Toronto\, M6P 2A5\, ON\, CA
SEQUENCE:1776852322
SUMMARY:2025 Stu Sells 1824 Halifax Classic - Women
URL;VALUE=URI:https://stucurls.curling.io/fr/events/23088-2025-stu-sells-18
 24-halifax-classic-women/draws
END:VEVENT
BEGIN:VEVENT
DTSTAMP:20260422T100522Z
UID:drawid:195211
DTSTART:20251116T113000
DTEND:20251116T133000
DESCRIPTION:Parties: SF #1\, SF #2
LOCATION:3283 Dundas Street West\, Toronto\, M6P 2A5\, ON\, CA
SEQUENCE:1776852322
SUMMARY:2025 Stu Sells 1824 Halifax Classic - Women
URL;VALUE=URI:https://stucurls.curling.io/fr/events/23088-2025-stu-sells-18
 24-halifax-classic-women/draws
END:VEVENT
BEGIN:VEVENT
DTSTAMP:20260422T100522Z
UID:drawid:195212
DTSTART:20251116T144500
DTEND:20251116T164500
DESCRIPTION:Parties: TBD\, Final
LOCATION:3283 Dundas Street West\, Toronto\, M6P 2A5\, ON\, CA
SEQUENCE:1776852322
SUMMARY:2025 Stu Sells 1824 Halifax Classic - Women
URL;VALUE=URI:https://stucurls.curling.io/fr/events/23088-2025-stu-sells-18
 24-halifax-classic-women/draws
END:VEVENT
END:VCALENDAR
