BEGIN:VCALENDAR
VERSION:2.0
PRODID:icalendar-ruby
CALSCALE:GREGORIAN
METHOD:PUBLISH
X-WR-CALNAME:2025 Stu Sells Living Water Collingwood Classic - Men Calendri
 er
BEGIN:VTIMEZONE
TZID:America/New_York
BEGIN:DAYLIGHT
DTSTART:20260308T030000
TZOFFSETFROM:-0500
TZOFFSETTO:-0400
RRULE:FREQ=YEARLY;BYDAY=2SU;BYMONTH=3
TZNAME:EDT
END:DAYLIGHT
BEGIN:STANDARD
DTSTART:20261101T010000
TZOFFSETFROM:-0400
TZOFFSETTO:-0500
RRULE:FREQ=YEARLY;BYDAY=1SU;BYMONTH=11
TZNAME:EST
END:STANDARD
END:VTIMEZONE
BEGIN:VEVENT
DTSTAMP:20260422T095919Z
UID:drawid:196629
DTSTART:20251120T170000
DTEND:20251120T190000
DESCRIPTION:Parties: TBD
LOCATION:3283 Dundas Street West\, Toronto\, M6P 2A5\, ON\, CA
SEQUENCE:1776851959
SUMMARY:2025 Stu Sells Living Water Collingwood Classic - Men
URL;VALUE=URI:https://stucurls.curling.io/fr/events/23402-2025-stu-sells-li
 ving-water-collingwood-classic-men/draws
END:VEVENT
BEGIN:VEVENT
DTSTAMP:20260422T095919Z
UID:drawid:174800
DTSTART:20251120T200000
DTEND:20251120T220000
DESCRIPTION:Parties: TBD\, TBD\, TBD\, TBD\, TBD\, TBD
LOCATION:3283 Dundas Street West\, Toronto\, M6P 2A5\, ON\, CA
SEQUENCE:1776851959
SUMMARY:2025 Stu Sells Living Water Collingwood Classic - Men
URL;VALUE=URI:https://stucurls.curling.io/fr/events/23402-2025-stu-sells-li
 ving-water-collingwood-classic-men/draws
END:VEVENT
BEGIN:VEVENT
DTSTAMP:20260422T095919Z
UID:drawid:174801
DTSTART:20251121T090000
DTEND:20251121T110000
DESCRIPTION:Parties: TBD\, TBD\, TBD\, TBD\, TBD\, TBD
LOCATION:3283 Dundas Street West\, Toronto\, M6P 2A5\, ON\, CA
SEQUENCE:1776851959
SUMMARY:2025 Stu Sells Living Water Collingwood Classic - Men
URL;VALUE=URI:https://stucurls.curling.io/fr/events/23402-2025-stu-sells-li
 ving-water-collingwood-classic-men/draws
END:VEVENT
BEGIN:VEVENT
DTSTAMP:20260422T095919Z
UID:drawid:174802
DTSTART:20251121T113000
DTEND:20251121T133000
DESCRIPTION:Parties: TBD\, TBD\, TBD\, TBD\, TBD\, TBD
LOCATION:3283 Dundas Street West\, Toronto\, M6P 2A5\, ON\, CA
SEQUENCE:1776851959
SUMMARY:2025 Stu Sells Living Water Collingwood Classic - Men
URL;VALUE=URI:https://stucurls.curling.io/fr/events/23402-2025-stu-sells-li
 ving-water-collingwood-classic-men/draws
END:VEVENT
BEGIN:VEVENT
DTSTAMP:20260422T095919Z
UID:drawid:174803
DTSTART:20251121T143000
DTEND:20251121T163000
DESCRIPTION:Parties: TBD\, TBD\, TBD\, TBD\, TBD\, TBD
LOCATION:3283 Dundas Street West\, Toronto\, M6P 2A5\, ON\, CA
SEQUENCE:1776851959
SUMMARY:2025 Stu Sells Living Water Collingwood Classic - Men
URL;VALUE=URI:https://stucurls.curling.io/fr/events/23402-2025-stu-sells-li
 ving-water-collingwood-classic-men/draws
END:VEVENT
BEGIN:VEVENT
DTSTAMP:20260422T095919Z
UID:drawid:174804
DTSTART:20251121T170000
DTEND:20251121T190000
DESCRIPTION:Parties: TBD\, TBD\, TBD\, TBD\, TBD\, TBD
LOCATION:3283 Dundas Street West\, Toronto\, M6P 2A5\, ON\, CA
SEQUENCE:1776851959
SUMMARY:2025 Stu Sells Living Water Collingwood Classic - Men
URL;VALUE=URI:https://stucurls.curling.io/fr/events/23402-2025-stu-sells-li
 ving-water-collingwood-classic-men/draws
END:VEVENT
BEGIN:VEVENT
DTSTAMP:20260422T095919Z
UID:drawid:174805
DTSTART:20251121T200000
DTEND:20251121T220000
DESCRIPTION:Parties: TBD\, TBD\, TBD\, TBD\, TBD\, TBD
LOCATION:3283 Dundas Street West\, Toronto\, M6P 2A5\, ON\, CA
SEQUENCE:1776851959
SUMMARY:2025 Stu Sells Living Water Collingwood Classic - Men
URL;VALUE=URI:https://stucurls.curling.io/fr/events/23402-2025-stu-sells-li
 ving-water-collingwood-classic-men/draws
END:VEVENT
BEGIN:VEVENT
DTSTAMP:20260422T095919Z
UID:drawid:174806
DTSTART:20251122T090000
DTEND:20251122T110000
DESCRIPTION:Parties: TBD\, TBD\, TBD\, TBD\, TBD\, TBD
LOCATION:3283 Dundas Street West\, Toronto\, M6P 2A5\, ON\, CA
SEQUENCE:1776851959
SUMMARY:2025 Stu Sells Living Water Collingwood Classic - Men
URL;VALUE=URI:https://stucurls.curling.io/fr/events/23402-2025-stu-sells-li
 ving-water-collingwood-classic-men/draws
END:VEVENT
BEGIN:VEVENT
DTSTAMP:20260422T095919Z
UID:drawid:174807
DTSTART:20251122T113000
DTEND:20251122T133000
DESCRIPTION:Parties: TBD\, TBD\, TBD\, TBD\, TBD\, TBD
LOCATION:3283 Dundas Street West\, Toronto\, M6P 2A5\, ON\, CA
SEQUENCE:1776851959
SUMMARY:2025 Stu Sells Living Water Collingwood Classic - Men
URL;VALUE=URI:https://stucurls.curling.io/fr/events/23402-2025-stu-sells-li
 ving-water-collingwood-classic-men/draws
END:VEVENT
BEGIN:VEVENT
DTSTAMP:20260422T095919Z
UID:drawid:174808
DTSTART:20251122T143000
DTEND:20251122T163000
DESCRIPTION:Parties: TBD\, TBD\, TBD\, TBD\, TBD\, TBD
LOCATION:3283 Dundas Street West\, Toronto\, M6P 2A5\, ON\, CA
SEQUENCE:1776851959
SUMMARY:2025 Stu Sells Living Water Collingwood Classic - Men
URL;VALUE=URI:https://stucurls.curling.io/fr/events/23402-2025-stu-sells-li
 ving-water-collingwood-classic-men/draws
END:VEVENT
BEGIN:VEVENT
DTSTAMP:20260422T095919Z
UID:drawid:174809
DTSTART:20251122T170000
DTEND:20251122T190000
DESCRIPTION:Parties: TBD\, TBD\, TBD\, TBD\, TBD\, TBD
LOCATION:3283 Dundas Street West\, Toronto\, M6P 2A5\, ON\, CA
SEQUENCE:1776851959
SUMMARY:2025 Stu Sells Living Water Collingwood Classic - Men
URL;VALUE=URI:https://stucurls.curling.io/fr/events/23402-2025-stu-sells-li
 ving-water-collingwood-classic-men/draws
END:VEVENT
BEGIN:VEVENT
DTSTAMP:20260422T095919Z
UID:drawid:174810
DTSTART:20251122T200000
DTEND:20251122T220000
DESCRIPTION:Parties: TBD\, TBD\, TBD\, TBD\, TBD\, TBD
LOCATION:3283 Dundas Street West\, Toronto\, M6P 2A5\, ON\, CA
SEQUENCE:1776851959
SUMMARY:2025 Stu Sells Living Water Collingwood Classic - Men
URL;VALUE=URI:https://stucurls.curling.io/fr/events/23402-2025-stu-sells-li
 ving-water-collingwood-classic-men/draws
END:VEVENT
BEGIN:VEVENT
DTSTAMP:20260422T095919Z
UID:drawid:174811
DTSTART:20251123T090000
DTEND:20251123T110000
DESCRIPTION:Parties: TBD\, TBD\, Quarterfinal (1)\, Quarterfinal (2)\, Quar
 terfinal (3)\, Quarterfinal (4)
LOCATION:3283 Dundas Street West\, Toronto\, M6P 2A5\, ON\, CA
SEQUENCE:1776851959
SUMMARY:2025 Stu Sells Living Water Collingwood Classic - Men
URL;VALUE=URI:https://stucurls.curling.io/fr/events/23402-2025-stu-sells-li
 ving-water-collingwood-classic-men/draws
END:VEVENT
BEGIN:VEVENT
DTSTAMP:20260422T095919Z
UID:drawid:174812
DTSTART:20251123T120000
DTEND:20251123T140000
DESCRIPTION:Parties: TBD\, Semifinal (2)\, TBD\, TBD\, Semifinal (1)\, TBD
LOCATION:3283 Dundas Street West\, Toronto\, M6P 2A5\, ON\, CA
SEQUENCE:1776851959
SUMMARY:2025 Stu Sells Living Water Collingwood Classic - Men
URL;VALUE=URI:https://stucurls.curling.io/fr/events/23402-2025-stu-sells-li
 ving-water-collingwood-classic-men/draws
END:VEVENT
BEGIN:VEVENT
DTSTAMP:20260422T095919Z
UID:drawid:174813
DTSTART:20251123T150000
DTEND:20251123T170000
DESCRIPTION:Parties: TBD\, TBD\, Final\, TBD\, TBD\, TBD
LOCATION:3283 Dundas Street West\, Toronto\, M6P 2A5\, ON\, CA
SEQUENCE:1776851959
SUMMARY:2025 Stu Sells Living Water Collingwood Classic - Men
URL;VALUE=URI:https://stucurls.curling.io/fr/events/23402-2025-stu-sells-li
 ving-water-collingwood-classic-men/draws
END:VEVENT
END:VCALENDAR
