BEGIN:VCALENDAR
VERSION:2.0
PRODID:icalendar-ruby
CALSCALE:GREGORIAN
METHOD:PUBLISH
X-WR-CALNAME:2025 Stu Sells Living Water Collingwood Classic - Women Calend
 rier
BEGIN:VTIMEZONE
TZID:America/New_York
BEGIN:DAYLIGHT
DTSTART:20260308T030000
TZOFFSETFROM:-0500
TZOFFSETTO:-0400
RRULE:FREQ=YEARLY;BYDAY=2SU;BYMONTH=3
TZNAME:EDT
END:DAYLIGHT
BEGIN:STANDARD
DTSTART:20261101T010000
TZOFFSETFROM:-0400
TZOFFSETTO:-0500
RRULE:FREQ=YEARLY;BYDAY=1SU;BYMONTH=11
TZNAME:EST
END:STANDARD
END:VTIMEZONE
BEGIN:VEVENT
DTSTAMP:20260422T100339Z
UID:drawid:196643
DTSTART:20251120T170000
DTEND:20251120T190000
DESCRIPTION:Parties: 
LOCATION:3283 Dundas Street West\, Toronto\, M6P 2A5\, ON\, CA
SEQUENCE:1776852219
SUMMARY:2025 Stu Sells Living Water Collingwood Classic - Women
URL;VALUE=URI:https://stucurls.curling.io/fr/events/23403-2025-stu-sells-li
 ving-water-collingwood-classic-women/draws
END:VEVENT
BEGIN:VEVENT
DTSTAMP:20260422T100339Z
UID:drawid:174856
DTSTART:20251120T200000
DTEND:20251120T220000
DESCRIPTION:Parties: TBD\, TBD\, TBD\, TBD\, TBD\, TBD
LOCATION:3283 Dundas Street West\, Toronto\, M6P 2A5\, ON\, CA
SEQUENCE:1776852219
SUMMARY:2025 Stu Sells Living Water Collingwood Classic - Women
URL;VALUE=URI:https://stucurls.curling.io/fr/events/23403-2025-stu-sells-li
 ving-water-collingwood-classic-women/draws
END:VEVENT
BEGIN:VEVENT
DTSTAMP:20260422T100339Z
UID:drawid:174857
DTSTART:20251121T090000
DTEND:20251121T110000
DESCRIPTION:Parties: TBD\, TBD\, TBD\, TBD\, TBD\, TBD
LOCATION:3283 Dundas Street West\, Toronto\, M6P 2A5\, ON\, CA
SEQUENCE:1776852219
SUMMARY:2025 Stu Sells Living Water Collingwood Classic - Women
URL;VALUE=URI:https://stucurls.curling.io/fr/events/23403-2025-stu-sells-li
 ving-water-collingwood-classic-women/draws
END:VEVENT
BEGIN:VEVENT
DTSTAMP:20260422T100339Z
UID:drawid:174858
DTSTART:20251121T113000
DTEND:20251121T133000
DESCRIPTION:Parties: TBD\, TBD\, TBD\, TBD\, TBD\, TBD
LOCATION:3283 Dundas Street West\, Toronto\, M6P 2A5\, ON\, CA
SEQUENCE:1776852219
SUMMARY:2025 Stu Sells Living Water Collingwood Classic - Women
URL;VALUE=URI:https://stucurls.curling.io/fr/events/23403-2025-stu-sells-li
 ving-water-collingwood-classic-women/draws
END:VEVENT
BEGIN:VEVENT
DTSTAMP:20260422T100339Z
UID:drawid:174859
DTSTART:20251121T143000
DTEND:20251121T163000
DESCRIPTION:Parties: TBD\, TBD\, TBD\, TBD\, TBD\, TBD
LOCATION:3283 Dundas Street West\, Toronto\, M6P 2A5\, ON\, CA
SEQUENCE:1776852219
SUMMARY:2025 Stu Sells Living Water Collingwood Classic - Women
URL;VALUE=URI:https://stucurls.curling.io/fr/events/23403-2025-stu-sells-li
 ving-water-collingwood-classic-women/draws
END:VEVENT
BEGIN:VEVENT
DTSTAMP:20260422T100339Z
UID:drawid:174860
DTSTART:20251121T170000
DTEND:20251121T190000
DESCRIPTION:Parties: TBD\, TBD\, TBD\, TBD\, TBD\, TBD
LOCATION:3283 Dundas Street West\, Toronto\, M6P 2A5\, ON\, CA
SEQUENCE:1776852219
SUMMARY:2025 Stu Sells Living Water Collingwood Classic - Women
URL;VALUE=URI:https://stucurls.curling.io/fr/events/23403-2025-stu-sells-li
 ving-water-collingwood-classic-women/draws
END:VEVENT
BEGIN:VEVENT
DTSTAMP:20260422T100339Z
UID:drawid:174861
DTSTART:20251121T200000
DTEND:20251121T220000
DESCRIPTION:Parties: TBD\, TBD\, TBD\, TBD\, TBD\, TBD
LOCATION:3283 Dundas Street West\, Toronto\, M6P 2A5\, ON\, CA
SEQUENCE:1776852219
SUMMARY:2025 Stu Sells Living Water Collingwood Classic - Women
URL;VALUE=URI:https://stucurls.curling.io/fr/events/23403-2025-stu-sells-li
 ving-water-collingwood-classic-women/draws
END:VEVENT
BEGIN:VEVENT
DTSTAMP:20260422T100339Z
UID:drawid:174862
DTSTART:20251122T090000
DTEND:20251122T110000
DESCRIPTION:Parties: TBD\, TBD\, TBD\, TBD\, TBD\, TBD
LOCATION:3283 Dundas Street West\, Toronto\, M6P 2A5\, ON\, CA
SEQUENCE:1776852219
SUMMARY:2025 Stu Sells Living Water Collingwood Classic - Women
URL;VALUE=URI:https://stucurls.curling.io/fr/events/23403-2025-stu-sells-li
 ving-water-collingwood-classic-women/draws
END:VEVENT
BEGIN:VEVENT
DTSTAMP:20260422T100339Z
UID:drawid:174863
DTSTART:20251122T113000
DTEND:20251122T133000
DESCRIPTION:Parties: TBD\, TBD\, TBD\, TBD\, TBD\, TBD
LOCATION:3283 Dundas Street West\, Toronto\, M6P 2A5\, ON\, CA
SEQUENCE:1776852219
SUMMARY:2025 Stu Sells Living Water Collingwood Classic - Women
URL;VALUE=URI:https://stucurls.curling.io/fr/events/23403-2025-stu-sells-li
 ving-water-collingwood-classic-women/draws
END:VEVENT
BEGIN:VEVENT
DTSTAMP:20260422T100339Z
UID:drawid:174864
DTSTART:20251122T143000
DTEND:20251122T163000
DESCRIPTION:Parties: TBD\, TBD\, TBD\, TBD\, TBD\, TBD
LOCATION:3283 Dundas Street West\, Toronto\, M6P 2A5\, ON\, CA
SEQUENCE:1776852219
SUMMARY:2025 Stu Sells Living Water Collingwood Classic - Women
URL;VALUE=URI:https://stucurls.curling.io/fr/events/23403-2025-stu-sells-li
 ving-water-collingwood-classic-women/draws
END:VEVENT
BEGIN:VEVENT
DTSTAMP:20260422T100339Z
UID:drawid:174865
DTSTART:20251122T170000
DTEND:20251122T190000
DESCRIPTION:Parties: TBD\, TBD\, TBD\, TBD\, TBD\, TBD
LOCATION:3283 Dundas Street West\, Toronto\, M6P 2A5\, ON\, CA
SEQUENCE:1776852219
SUMMARY:2025 Stu Sells Living Water Collingwood Classic - Women
URL;VALUE=URI:https://stucurls.curling.io/fr/events/23403-2025-stu-sells-li
 ving-water-collingwood-classic-women/draws
END:VEVENT
BEGIN:VEVENT
DTSTAMP:20260422T100339Z
UID:drawid:174866
DTSTART:20251122T200000
DTEND:20251122T220000
DESCRIPTION:Parties: TBD\, TBD\, TBD\, TBD\, TBD\, TBD
LOCATION:3283 Dundas Street West\, Toronto\, M6P 2A5\, ON\, CA
SEQUENCE:1776852219
SUMMARY:2025 Stu Sells Living Water Collingwood Classic - Women
URL;VALUE=URI:https://stucurls.curling.io/fr/events/23403-2025-stu-sells-li
 ving-water-collingwood-classic-women/draws
END:VEVENT
BEGIN:VEVENT
DTSTAMP:20260422T100339Z
UID:drawid:174867
DTSTART:20251123T090000
DTEND:20251123T110000
DESCRIPTION:Parties: TBD\, Quarterfinal (1)\, TBD\, TBD\, TBD\, TBD
LOCATION:3283 Dundas Street West\, Toronto\, M6P 2A5\, ON\, CA
SEQUENCE:1776852219
SUMMARY:2025 Stu Sells Living Water Collingwood Classic - Women
URL;VALUE=URI:https://stucurls.curling.io/fr/events/23403-2025-stu-sells-li
 ving-water-collingwood-classic-women/draws
END:VEVENT
BEGIN:VEVENT
DTSTAMP:20260422T100339Z
UID:drawid:174868
DTSTART:20251123T120000
DTEND:20251123T140000
DESCRIPTION:Parties: TBD\, TBD\, Semifinal (1)\, Semifinal (2)\, TBD\, TBD
LOCATION:3283 Dundas Street West\, Toronto\, M6P 2A5\, ON\, CA
SEQUENCE:1776852219
SUMMARY:2025 Stu Sells Living Water Collingwood Classic - Women
URL;VALUE=URI:https://stucurls.curling.io/fr/events/23403-2025-stu-sells-li
 ving-water-collingwood-classic-women/draws
END:VEVENT
BEGIN:VEVENT
DTSTAMP:20260422T100339Z
UID:drawid:174869
DTSTART:20251123T150000
DTEND:20251123T170000
DESCRIPTION:Parties: TBD\, TBD\, TBD\, TBD\, Final\, TBD
LOCATION:3283 Dundas Street West\, Toronto\, M6P 2A5\, ON\, CA
SEQUENCE:1776852219
SUMMARY:2025 Stu Sells Living Water Collingwood Classic - Women
URL;VALUE=URI:https://stucurls.curling.io/fr/events/23403-2025-stu-sells-li
 ving-water-collingwood-classic-women/draws
END:VEVENT
END:VCALENDAR
